Workbook

Sheet 直补到人花名册
A1: 年度 | B1: 行政区划编码 | C1: 行政区划名称 | D1: 户主姓名 | E1: 户主身份证 | F1: 总人数 | G1: 总资金(元) | H1: 直补到人人数 | I1: 直补到人金额(元) | J1: 两者结合人数 | K1: 两者结合金额(元) | L1: 账号名称 | M1: 开户银行 | N1: 银行账号
A2: 2024 | B2: 430981006015 | C2: 湖南省益阳市沅江市琼湖街道金田社区 | D2: 彭玉华 | E2: =REPLACE([1]直补到人花名册!$E:$E,9,6,"******") -> 43098119******0349 | F2: 1 | G2: 600 | H2: 1 | I2: 600 | J2: 0 | K2: 0
A3: 2024 | B3: 430981006017 | C3: 湖南省益阳市沅江市琼湖街道太白社区 | D3: 杨乐娟 | E3: =REPLACE([1]直补到人花名册!$E:$E,9,6,"******") -> 43230219******0722 | F3: 1 | G3: 600 | H3: 1 | I3: 600 | J3: 0 | K3: 0 | L3: 杨乐娟 | M3: 沅江市信用社 | N3: =REPLACE([1]直补到人花名册!$O$3,9,6,"******") -> 87021220******280011
A4: 2024 | B4: 430981006017 | C4: 湖南省益阳市沅江市琼湖街道太白社区 | D4: 夏中瑶 | E4: =REPLACE([1]直补到人花名册!$E:$E,9,6,"******") -> 43230219******0723 | F4: 1 | G4: 600 | H4: 1 | I4: 600 | J4: 0 | K4: 0 | L4: 夏中瑶 | M4: 沅江市信用社 | N4: =REPLACE([1]直补到人花名册!$O$3,9,6,"******") -> 87021220******280011
A5: 2024 | B5: 430981006021 | C5: 湖南省益阳市沅江市琼湖街道和平社区 | D5: 夏成友 | E5: =REPLACE([1]直补到人花名册!$E:$E,9,6,"******") -> 43230219******0033 | F5: 0 | G5: 0 | H5: 0 | I5: 0 | J5: 0 | K5: 0 | L5: 夏成友 | M5: 沅江市信用社 | N5: =REPLACE([1]直补到人花名册!$O$3,9,6,"******") -> 87021220******280011
A6: 2024 | B6: 430981006026 | C6: 湖南省益阳市沅江市琼湖街道凌云塔社区 | D6: 彭庆云 | E6: =REPLACE([1]直补到人花名册!$E:$E,9,6,"******") -> 43230219******0527 | F6: 1 | G6: 600 | H6: 1 | I6: 600 | J6: 0 | K6: 0 | L6: 彭庆云 | M6: 农村信用社 | N6: =REPLACE([1]直补到人花名册!$O$3,9,6,"******") -> 87021220******280011
A7: 2024 | B7: 430981006212 | C7: 湖南省益阳市沅江市琼湖街道共和社区 | D7: 夏化珍 | E7: =REPLACE([1]直补到人花名册!$E:$E,9,6,"******") -> 43230219******0721 | F7: 1 | G7: 600 | H7: 1 | I7: 600 | J7: 0 | K7: 0 | L7: 夏化珍 | M7: 沅江市信用社 | N7: =REPLACE([1]直补到人花名册!$O$3,9,6,"******") -> 87021220******280011
A8: 2024 | B8: 430981007001 | C8: 湖南省益阳市沅江市胭脂湖街道海上社区 | D8: 李育红 | E8: =REPLACE([1]直补到人花名册!$E:$E,9,6,"******") -> 43230219******6827 | F8: 1 | G8: 600 | H8: 1 | I8: 600 | J8: 0 | K8: 0 | N8: =REPLACE([1]直补到人花名册!$O$3,9,6,"******") -> 87021220******280011
A9: 2024 | B9: 430981007001 | C9: 湖南省益阳市沅江市胭脂湖街道海上社区 | D9: 夏丽君 | E9: =REPLACE([1]直补到人花名册!$E:$E,9,6,"******") -> 43230219******6646 | F9: 1 | G9: 600 | H9: 1 | I9: 600 | J9: 0 | K9: 0 | L9: 夏丽君 | M9: 沅江市信用社 | N9: =REPLACE([1]直补到人花名册!$O$3,9,6,"******") -> 87021220******280011
A10: 2024 | B10: 430981007001 | C10: 湖南省益阳市沅江市胭脂湖街道海上社区 | D10: 匡秋明 | E10: =REPLACE([1]直补到人花名册!$E:$E,9,6,"******") -> 43230119******5514 | F10: 1 | G10: 600 | H10: 1 | I10: 600 | J10: 0 | K10: 0 | L10: 匡秋明 | M10: 沅江市信用社 | N10: =REPLACE([1]直补到人花名册!$O$3,9,6,"******") -> 87021220******280011
A11: 2024 | B11: 430981007001 | C11: 湖南省益阳市沅江市胭脂湖街道海上社区 | D11: 胡军香 | E11: =REPLACE([1]直补到人花名册!$E:$E,9,6,"******") -> 43230219******6625 | F11: 1 | G11: 600 | H11: 1 | I11: 600 | J11: 0 | K11: 0 | L11: 胡军香 | M11: 沅江市信用社 | N11: =REPLACE([1]直补到人花名册!$O$3,9,6,"******") -> 87021220******280011
A12: 2024 | B12: 430981007201 | C12: 湖南省益阳市沅江市胭脂湖街道杨梅山村 | D12: 周桂香 | E12: =REPLACE([1]直补到人花名册!$E:$E,9,6,"******") -> 43230219******6822 | F12: 1 | G12: 600 | H12: 1 | I12: 600 | J12: 0 | K12: 0 | L12: 周桂香 | M12: 沅江市信用社 | N12: =REPLACE([1]直补到人花名册!$O$3,9,6,"******") -> 87021220******280011
A13: 2024 | B13: 430981007201 | C13: 湖南省益阳市沅江市胭脂湖街道杨梅山村 | D13: 钟卫兰 | E13: =REPLACE([1]直补到人花名册!$E:$E,9,6,"******") -> 43230219******6828 | F13: 1 | G13: 600 | H13: 1 | I13: 600 | J13: 0 | K13: 0 | N13: =REPLACE([1]直补到人花名册!$O$3,9,6,"******") -> 87021220******280011
A14: 2024 | B14: 430981007201 | C14: 湖南省益阳市沅江市胭脂湖街道杨梅山村 | D14: 曹长江 | E14: =REPLACE([1]直补到人花名册!$E:$E,9,6,"******") -> 43230219******6834 | F14: 1 | G14: 600 | H14: 1 | I14: 600 | J14: 0 | K14: 0 | L14: 曹长江 | M14: 沅江市信用社 | N14: =REPLACE([1]直补到人花名册!$O$3,9,6,"******") -> 87021220******280011
A15: 2024 | B15: 430981007201 | C15: 湖南省益阳市沅江市胭脂湖街道杨梅山村 | D15: 曹杨 | E15: =REPLACE([1]直补到人花名册!$E:$E,9,6,"******") -> 43098119******6612 | F15: 1 | G15: 600 | H15: 1 | I15: 600 | J15: 0 | K15: 0 | L15: 曹长江 | M15: 农村信用社 | N15: =REPLACE([1]直补到人花名册!$O$3,9,6,"******") -> 87021220******280011
A16: 2024 | B16: 430981007211 | C16: 湖南省益阳市沅江市胭脂湖街道荷花村 | D16: 龚淑蓉 | E16: =REPLACE([1]直补到人花名册!$E:$E,9,6,"******") -> 43230219******682X | F16: 1 | G16: 600 | H16: 1 | I16: 600 | J16: 0 | K16: 0 | L16: 龚淑蓉 | M16: 沅江市信用社 | N16: =REPLACE([1]直补到人花名册!$O$3,9,6,"******") -> 87021220******280011
A17: 2024 | B17: 430981007211 | C17: 湖南省益阳市沅江市胭脂湖街道荷花村 | D17: 邓凤中 | E17: =REPLACE([1]直补到人花名册!$E:$E,9,6,"******") -> 43230219******6828 | F17: 1 | G17: 600 | H17: 1 | I17: 600 | J17: 0 | K17: 0 | L17: 邓凤中 | M17: 沅江市信用社 | N17: =REPLACE([1]直补到人花名册!$O$3,9,6,"******") -> 87021220******280011
A18: 2024 | B18: 430981007212 | C18: 湖南省益阳市沅江市胭脂湖街道十里坪村 | D18: 曾满秀 | E18: =REPLACE([1]直补到人花名册!$E:$E,9,6,"******") -> 43230219******6626 | F18: 1 | G18: 600 | H18: 1 | I18: 600 | J18: 0 | K18: 0 | L18: 曾满秀 | M18: 沅江市信用社 | N18: =REPLACE([1]直补到人花名册!$O$3,9,6,"******") -> 87021220******280011
A19: 2024 | B19: 430981007214 | C19: 湖南省益阳市沅江市胭脂湖街道黄家湖村 | D19: 熊芝莲 | E19: =REPLACE([1]直补到人花名册!$E:$E,9,6,"******") -> 43230219******6620 | F19: 1 | G19: 600 | H19: 1 | I19: 600 | J19: 0 | K19: 0 | L19: 熊芝莲 | M19: 沅江市信用社 | N19: =REPLACE([1]直补到人花名册!$O$3,9,6,"******") -> 87021220******280011
A20: 2024 | B20: 430981100210 | C20: 湖南省益阳市沅江市南大膳镇牛洲村 | D20: 毛文英 | E20: =REPLACE([1]直补到人花名册!$E:$E,9,6,"******") -> 43230219******4024 | F20: 1 | G20: 600 | H20: 1 | I20: 600 | J20: 0 | K20: 0 | L20: 毛文英 | M20: 沅江市信用社 | N20: =REPLACE([1]直补到人花名册!$O$3,9,6,"******") -> 87021220******280011
A21: 2024 | B21: 430981100220 | C21: 湖南省益阳市沅江市南大膳镇南大河村 | D21: 徐平安 | E21: =REPLACE([1]直补到人花名册!$E:$E,9,6,"******") -> 43098119******3921 | F21: 1 | G21: 600 | H21: 1 | I21: 600 | J21: 0 | K21: 0 | L21: 徐平安 | M21: 沅江市信用社 | N21: =REPLACE([1]直补到人花名册!$O$3,9,6,"******") -> 87021220******280011
A22: 2024 | B22: 430981100220 | C22: 湖南省益阳市沅江市南大膳镇南大河村 | D22: 李正财 | E22: =REPLACE([1]直补到人花名册!$E:$E,9,6,"******") -> 43230219******4014 | F22: 5 | G22: 3000 | H22: 5 | I22: 3000 | J22: 0 | K22: 0 | L22: 李正财 | M22: 沅江市信用社 | N22: =REPLACE([1]直补到人花名册!$O$3,9,6,"******") -> 87021220******280011
A23: 2024 | B23: 430981100220 | C23: 湖南省益阳市沅江市南大膳镇南大河村 | D23: 徐来安 | E23: =REPLACE([1]直补到人花名册!$E:$E,9,6,"******") -> 43230219******4021 | F23: 1 | G23: 600 | H23: 1 | I23: 600 | J23: 0 | K23: 0 | L23: 徐来安 | M23: 沅江市信用社 | N23: =REPLACE([1]直补到人花名册!$O$3,9,6,"******") -> 87021220******280011
A24: 2024 | B24: 430981100220 | C24: 湖南省益阳市沅江市南大膳镇南大河村 | D24: 徐良安 | E24: =REPLACE([1]直补到人花名册!$E:$E,9,6,"******") -> 43230219******4329 | F24: 1 | G24: 600 | H24: 1 | I24: 600 | J24: 0 | K24: 0 | L24: 徐良安 | M24: 沅江市信用社 | N24: =REPLACE([1]直补到人花名册!$O$3,9,6,"******") -> 87021220******280011
A25: 2024 | B25: 430981100279 | C25: 湖南省益阳市沅江市南大膳镇合利红村 | D25: 肖志余 | E25: =REPLACE([1]直补到人花名册!$E:$E,9,6,"******") -> 43230219******4521 | F25: 1 | G25: 600 | H25: 1 | I25: 600 | J25: 0 | K25: 0 | L25: 肖志余 | M25: 沅江市信用社 | N25: =REPLACE([1]直补到人花名册!$O$3,9,6,"******") -> 87021220******280011
... A135: 2024 | B135: 430981102005 | C135: 湖南省益阳市沅江市四季红镇四季红社区 | D135: 尹爱强 | E135: =REPLACE([1]直补到人花名册!$E:$E,9,6,"******") -> 43230219******5815 | F135: 4 | G135: 2400 | H135: 4 | I135: 2400 | J135: 0 | K135: 0 | L135: 尹爱强 | M135: 沅江市信用社 | N135: =REPLACE([1]直补到人花名册!$O$3,9,6,"******") -> 87021220******280011
A136: 2024 | B136: 430981102005 | C136: 湖南省益阳市沅江市四季红镇四季红社区 | D136: 夏光华 | E136: =REPLACE([1]直补到人花名册!$E:$E,9,6,"******") -> 43098119******1812 | F136: 0 | G136: 0 | H136: 0 | I136: 0 | J136: 0 | K136: 0 | N136: =REPLACE([1]直补到人花名册!$O$3,9,6,"******") -> 87021220******280011
A137: 2024 | B137: 430981102005 | C137: 湖南省益阳市沅江市四季红镇四季红社区 | D137: 夏玉辉 | E137: =REPLACE([1]直补到人花名册!$E:$E,9,6,"******") -> 43230219******4513 | F137: 0 | G137: 0 | H137: 0 | I137: 0 | J137: 0 | K137: 0 | N137: =REPLACE([1]直补到人花名册!$O$3,9,6,"******") -> 87021220******280011
A138: 2024 | B138: 430981102005 | C138: 湖南省益阳市沅江市四季红镇四季红社区 | D138: 李石后 | E138: =REPLACE([1]直补到人花名册!$E:$E,9,6,"******") -> 43098119******5432 | F138: 4 | G138: 2400 | H138: 4 | I138: 2400 | J138: 0 | K138: 0 | L138: 李石后 | M138: 沅江市信用社 | N138: =REPLACE([1]直补到人花名册!$O$3,9,6,"******") -> 87021220******280011
A139: 2024 | B139: 430981102005 | C139: 湖南省益阳市沅江市四季红镇四季红社区 | D139: 胡飞平 | E139: =REPLACE([1]直补到人花名册!$E:$E,9,6,"******") -> 43098119******5442 | F139: 0 | G139: 0 | H139: 0 | I139: 0 | J139: 0 | K139: 0 | L139: 胡飞平 | M139: 沅江市信用社 | N139: =REPLACE([1]直补到人花名册!$O$3,9,6,"******") -> 87021220******280011
A140: 2024 | B140: 430981102005 | C140: 湖南省益阳市沅江市四季红镇四季红社区 | D140: 夏付友 | E140: =REPLACE([1]直补到人花名册!$E:$E,9,6,"******") -> 43230219******5813 | F140: 0 | G140: 0 | H140: 0 | I140: 0 | J140: 0 | K140: 0 | L140: 夏付友 | M140: 沅江市信用社 | N140: =REPLACE([1]直补到人花名册!$O$3,9,6,"******") -> 87021220******280011
A141: 2024 | B141: 430981102005 | C141: 湖南省益阳市沅江市四季红镇四季红社区 | D141: 伍秋和 | E141: =REPLACE([1]直补到人花名册!$E:$E,9,6,"******") -> 43230219******581X | F141: 0 | G141: 0 | H141: 0 | I141: 0 | J141: 0 | K141: 0 | L141: 伍秋和 | M141: 沅江市信用社 | N141: =REPLACE([1]直补到人花名册!$O$3,9,6,"******") -> 87021220******280011
A142: 2024 | B142: 430981102005 | C142: 湖南省益阳市沅江市四季红镇四季红社区 | D142: 夏龙斌 | E142: =REPLACE([1]直补到人花名册!$E:$E,9,6,"******") -> 43230219******5816 | F142: 4 | G142: 2400 | H142: 4 | I142: 2400 | J142: 0 | K142: 0 | L142: 夏龙斌 | M142: 沅江市信用社 | N142: =REPLACE([1]直补到人花名册!$O$3,9,6,"******") -> 87021220******280011
A143: 2024 | B143: 430981102005 | C143: 湖南省益阳市沅江市四季红镇四季红社区 | D143: 夏威 | E143: =REPLACE([1]直补到人花名册!$E:$E,9,6,"******") -> 43098119******5437 | F143: 0 | G143: 0 | H143: 0 | I143: 0 | J143: 0 | K143: 0 | L143: 夏威 | M143: 沅江市信用社 | N143: =REPLACE([1]直补到人花名册!$O$3,9,6,"******") -> 87021220******280011
A144: 2024 | B144: 430981102005 | C144: 湖南省益阳市沅江市四季红镇四季红社区 | D144: 夏拥军 | E144: =REPLACE([1]直补到人花名册!$E:$E,9,6,"******") -> 43230219******5819 | F144: 3 | G144: 1800 | H144: 3 | I144: 1800 | J144: 0 | K144: 0 | L144: 夏拥军 | M144: 沅江市信用社 | N144: =REPLACE([1]直补到人花名册!$O$3,9,6,"******") -> 87021220******280011
A145: 2024 | B145: 430981102005 | C145: 湖南省益阳市沅江市四季红镇四季红社区 | D145: 李春红 | E145: =REPLACE([1]直补到人花名册!$E:$E,9,6,"******") -> 43230219******5817 | F145: 2 | G145: 1200 | H145: 2 | I145: 1200 | J145: 0 | K145: 0 | L145: 李沁 | M145: 沅江市信用社 | N145: =REPLACE([1]直补到人花名册!$O$3,9,6,"******") -> 87021220******280011
A146: 2024 | B146: 430981102005 | C146: 湖南省益阳市沅江市四季红镇四季红社区 | D146: 谢红梅 | E146: =REPLACE([1]直补到人花名册!$E:$E,9,6,"******") -> 43098119******5447 | F146: 3 | G146: 1800 | H146: 3 | I146: 1800 | J146: 0 | K146: 0 | L146: 谢红梅 | M146: 沅江市信用社 | N146: =REPLACE([1]直补到人花名册!$O$3,9,6,"******") -> 87021220******280011
A147: 2024 | B147: 430981102005 | C147: 湖南省益阳市沅江市四季红镇四季红社区 | D147: 夏登科 | E147: =REPLACE([1]直补到人花名册!$E:$E,9,6,"******") -> 43230219******5816 | F147: 2 | G147: 1200 | H147: 2 | I147: 1200 | J147: 0 | K147: 0 | L147: 夏登科 | M147: 沅江市信用社 | N147: =REPLACE([1]直补到人花名册!$O$3,9,6,"******") -> 87021220******280011
A148: 2024 | B148: 430981102005 | C148: 湖南省益阳市沅江市四季红镇四季红社区 | D148: 张欣宜 | E148: =REPLACE([1]直补到人花名册!$E:$E,9,6,"******") -> 43098120******5420 | F148: 0 | G148: 0 | H148: 0 | I148: 0 | J148: 0 | K148: 0 | N148: =REPLACE([1]直补到人花名册!$O$3,9,6,"******") -> 87021220******280011
A149: 2024 | B149: 430981102005 | C149: 湖南省益阳市沅江市四季红镇四季红社区 | D149: 夏朝辉 | E149: =REPLACE([1]直补到人花名册!$E:$E,9,6,"******") -> 43230219******5815 | F149: 0 | G149: 0 | H149: 0 | I149: 0 | J149: 0 | K149: 0 | L149: 夏朝辉 | M149: 沅江市信用社 | N149: =REPLACE([1]直补到人花名册!$O$3,9,6,"******") -> 87021220******280011
A150: 2024 | B150: 430981102005 | C150: 湖南省益阳市沅江市四季红镇四季红社区 | D150: 张辉林 | E150: =REPLACE([1]直补到人花名册!$E:$E,9,6,"******") -> 43230219******5838 | F150: 0 | G150: 0 | H150: 0 | I150: 0 | J150: 0 | K150: 0 | L150: 张辉林 | M150: 沅江市信用社 | N150: =REPLACE([1]直补到人花名册!$O$3,9,6,"******") -> 87021220******280011
A151: 2024 | B151: 430981102005 | C151: 湖南省益阳市沅江市四季红镇四季红社区 | D151: 张静 | E151: =REPLACE([1]直补到人花名册!$E:$E,9,6,"******") -> 43098119******5423 | F151: 0 | G151: 0 | H151: 0 | I151: 0 | J151: 0 | K151: 0 | L151: 何丁香 | M151: 沅江市信用社 | N151: =REPLACE([1]直补到人花名册!$O$3,9,6,"******") -> 87021220******280011
A152: 2024 | B152: 430981102005 | C152: 湖南省益阳市沅江市四季红镇四季红社区 | D152: 尹满花 | E152: =REPLACE([1]直补到人花名册!$E:$E,9,6,"******") -> 43230219******5813 | F152: 3 | G152: 1800 | H152: 3 | I152: 1800 | J152: 0 | K152: 0 | L152: 尹满花 | M152: 沅江市信用社 | N152: =REPLACE([1]直补到人花名册!$O$3,9,6,"******") -> 87021220******280011
A153: 2024 | B153: 430981102005 | C153: 湖南省益阳市沅江市四季红镇四季红社区 | D153: 夏卫华 | E153: =REPLACE([1]直补到人花名册!$E:$E,9,6,"******") -> 43230219******5840 | F153: 0 | G153: 0 | H153: 0 | I153: 0 | J153: 0 | K153: 0 | L153: 夏卫华 | M153: 沅江市信用社 | N153: =REPLACE([1]直补到人花名册!$O$3,9,6,"******") -> 87021220******280011
A154: 2024 | B154: 430981102005 | C154: 湖南省益阳市沅江市四季红镇四季红社区 | D154: 夏秀珍 | E154: =REPLACE([1]直补到人花名册!$E:$E,9,6,"******") -> 43230219******5829 | F154: 0 | G154: 0 | H154: 0 | I154: 0 | J154: 0 | K154: 0 | L154: 夏秀珍 | M154: 沅江市信用社 | N154: =REPLACE([1]直补到人花名册!$O$3,9,6,"******") -> 87021220******280011
A155: 2024 | B155: 430981102005 | C155: 湖南省益阳市沅江市四季红镇四季红社区 | D155: 李义强 | E155: =REPLACE([1]直补到人花名册!$E:$E,9,6,"******") -> 43098119******5430 | F155: 0 | G155: 0 | H155: 0 | I155: 0 | J155: 0 | K155: 0 | N155: =REPLACE([1]直补到人花名册!$O$3,9,6,"******") -> 87021220******280011
A156: 2024 | B156: 430981102005 | C156: 湖南省益阳市沅江市四季红镇四季红社区 | D156: 谢冬喜 | E156: =REPLACE([1]直补到人花名册!$E:$E,9,6,"******") -> 43232319******711X | F156: 0 | G156: 0 | H156: 0 | I156: 0 | J156: 0 | K156: 0 | N156: =REPLACE([1]直补到人花名册!$O$3,9,6,"******") -> 87021220******280011
A157: 2024 | B157: 430981102005 | C157: 湖南省益阳市沅江市四季红镇四季红社区 | D157: 李立军 | E157: =REPLACE([1]直补到人花名册!$E:$E,9,6,"******") -> 43230219******7123 | F157: 0 | G157: 0 | H157: 0 | I157: 0 | J157: 0 | K157: 0 | N157: =REPLACE([1]直补到人花名册!$O$3,9,6,"******") -> 87021220******280011
A158: 2024 | B158: 430981102005 | C158: 湖南省益阳市沅江市四季红镇四季红社区 | D158: 夏跃军 | E158: =REPLACE([1]直补到人花名册!$E:$E,9,6,"******") -> 43230219******5818 | F158: 3 | G158: 1800 | H158: 3 | I158: 1800 | J158: 0 | K158: 0 | L158: 夏跃军 | M158: 沅江市信用社 | N158: =REPLACE([1]直补到人花名册!$O$3,9,6,"******") -> 87021220******280011
A159: 2024 | B159: 430981102005 | C159: 湖南省益阳市沅江市四季红镇四季红社区 | D159: 李爱群 | E159: =REPLACE([1]直补到人花名册!$E:$E,9,6,"******") -> 43230219******5867 | F159: 4 | G159: 2400 | H159: 4 | I159: 2400 | J159: 0 | K159: 0 | L159: 李爱群 | M159: 沅江市信用社 | N159: =REPLACE([1]直补到人花名册!$O$3,9,6,"******") -> 87021220******280011
A160: 2024 | B160: 430981102005 | C160: 湖南省益阳市沅江市四季红镇四季红社区 | D160: 杨美桃 | E160: =REPLACE([1]直补到人花名册!$E:$E,9,6,"******") -> 43230219******5824 | F160: 0 | G160: 0 | H160: 0 | I160: 0 | J160: 0 | K160: 0 | L160: 杨美桃 | M160: 沅江市信用社 | N160: =REPLACE([1]直补到人花名册!$O$3,9,6,"******") -> 87021220******280011
A161: 2024 | B161: 430981102005 | C161: 湖南省益阳市沅江市四季红镇四季红社区 | D161: 刘冬云 | E161: =REPLACE([1]直补到人花名册!$E:$E,9,6,"******") -> 43230219******5824 | F161: 0 | G161: 0 | H161: 0 | I161: 0 | J161: 0 | K161: 0 | L161: 刘冬云 | M161: 沅江市信用社 | N161: =REPLACE([1]直补到人花名册!$O$3,9,6,"******") -> 87021220******280011
A162: 2024 | B162: 430981102005 | C162: 湖南省益阳市沅江市四季红镇四季红社区 | D162: 夏平安 | E162: =REPLACE([1]直补到人花名册!$E:$E,9,6,"******") -> 43098119******5434 | F162: 4 | G162: 2400 | H162: 4 | I162: 2400 | J162: 0 | K162: 0 | L162: 夏平安 | M162: 沅江市信用社 | N162: =REPLACE([1]直补到人花名册!$O$3,9,6,"******") -> 87021220******280011
A163: 2024 | B163: 430981102005 | C163: 湖南省益阳市沅江市四季红镇四季红社区 | D163: 黄付容 | E163: =REPLACE([1]直补到人花名册!$E:$E,9,6,"******") -> 43230219******5823 | F163: 2 | G163: 1200 | H163: 2 | I163: 1200 | J163: 0 | K163: 0 | L163: 黄付容 | M163: 沅江市信用社 | N163: =REPLACE([1]直补到人花名册!$O$3,9,6,"******") -> 87021220******280011
A164: 2024 | B164: 430981102005 | C164: 湖南省益阳市沅江市四季红镇四季红社区 | D164: 李咸生 | E164: =REPLACE([1]直补到人花名册!$E:$E,9,6,"******") -> 43230219******5815 | F164: 2 | G164: 1200 | H164: 2 | I164: 1200 | J164: 0 | K164: 0 | L164: 李咸生 | M164: 沅江市信用社 | N164: =REPLACE([1]直补到人花名册!$O$3,9,6,"******") -> 87021220******280011
A165: 2024 | B165: 430981102005 | C165: 湖南省益阳市沅江市四季红镇四季红社区 | D165: 夏淑萍 | E165: =REPLACE([1]直补到人花名册!$E:$E,9,6,"******") -> 43230219******5822 | F165: 2 | G165: 1200 | H165: 2 | I165: 1200 | J165: 0 | K165: 0 | L165: 夏淑萍 | M165: 沅江市信用社 | N165: =REPLACE([1]直补到人花名册!$O$3,9,6,"******") -> 87021220******280011
A166: 2024 | B166: 430981102005 | C166: 湖南省益阳市沅江市四季红镇四季红社区 | D166: 张桂花 | E166: =REPLACE([1]直补到人花名册!$E:$E,9,6,"******") -> 44188119******0642 | F166: 0 | G166: 0 | H166: 0 | I166: 0 | J166: 0 | K166: 0 | N166: =REPLACE([1]直补到人花名册!$O$3,9,6,"******") -> 87021220******280011
A167: 2024 | B167: 430981102005 | C167: 湖南省益阳市沅江市四季红镇四季红社区 | D167: 刘新华 | E167: =REPLACE([1]直补到人花名册!$E:$E,9,6,"******") -> 43098119******5430 | F167: 0 | G167: 0 | H167: 0 | I167: 0 | J167: 0 | K167: 0 | L167: 刘新华 | M167: 沅江市信用社 | N167: =REPLACE([1]直补到人花名册!$O$3,9,6,"******") -> 87021220******280011
A168: 2024 | B168: 430981102005 | C168: 湖南省益阳市沅江市四季红镇四季红社区 | D168: 刘红英 | E168: =REPLACE([1]直补到人花名册!$E:$E,9,6,"******") -> 43098119******5443 | F168: 3 | G168: 1800 | H168: 3 | I168: 1800 | J168: 0 | K168: 0 | L168: 刘红英 | M168: 沅江市信用社 | N168: =REPLACE([1]直补到人花名册!$O$3,9,6,"******") -> 87021220******280011
A169: 2024 | B169: 430981102005 | C169: 湖南省益阳市沅江市四季红镇四季红社区 | D169: 邓丽容 | E169: =REPLACE([1]直补到人花名册!$E:$E,9,6,"******") -> 43230219******5821 | F169: 1 | G169: 600 | H169: 1 | I169: 600 | J169: 0 | K169: 0 | L169: 彭庭庆 | M169: 沅江市信用社 | N169: =REPLACE([1]直补到人花名册!$O$3,9,6,"******") -> 87021220******280011
A170: 2024 | B170: 430981102005 | C170: 湖南省益阳市沅江市四季红镇四季红社区 | D170: 邓青后 | E170: =REPLACE([1]直补到人花名册!$E:$E,9,6,"******") -> 43230219******5819 | F170: 3 | G170: 1800 | H170: 3 | I170: 1800 | J170: 0 | K170: 0 | L170: 邓青后 | M170: 沅江市信用社 | N170: =REPLACE([1]直补到人花名册!$O$3,9,6,"******") -> 87021220******280011
A171: 2024 | B171: 430981102005 | C171: 湖南省益阳市沅江市四季红镇四季红社区 | D171: 胡吉华 | E171: =REPLACE([1]直补到人花名册!$E:$E,9,6,"******") -> 43230219******5815 | F171: 1 | G171: 600 | H171: 1 | I171: 600 | J171: 0 | K171: 0 | L171: 胡吉华 | M171: 沅江市信用社 | N171: =REPLACE([1]直补到人花名册!$O$3,9,6,"******") -> 87021220******280011
A172: 2024 | B172: 430981102005 | C172: 湖南省益阳市沅江市四季红镇四季红社区 | D172: 刘建华 | E172: =REPLACE([1]直补到人花名册!$E:$E,9,6,"******") -> 43230219******5817 | F172: 3 | G172: 1800 | H172: 3 | I172: 1800 | J172: 0 | K172: 0 | L172: 刘建华 | M172: 沅江市信用社 | N172: =REPLACE([1]直补到人花名册!$O$3,9,6,"******") -> 87021220******280011
A173: 2024 | B173: 430981102005 | C173: 湖南省益阳市沅江市四季红镇四季红社区 | D173: 夏其华 | E173: =REPLACE([1]直补到人花名册!$E:$E,9,6,"******") -> 43230219******5818 | F173: 4 | G173: 2400 | H173: 4 | I173: 2400 | J173: 0 | K173: 0 | L173: 夏其华 | M173: 沅江市信用社 | N173: =REPLACE([1]直补到人花名册!$O$3,9,6,"******") -> 87021220******280011
A174: 2024 | B174: 430981102005 | C174: 湖南省益阳市沅江市四季红镇四季红社区 | D174: 刘菊桃 | E174: =REPLACE([1]直补到人花名册!$E:$E,9,6,"******") -> 43230219******5822 | F174: 5 | G174: 3000 | H174: 5 | I174: 3000 | J174: 0 | K174: 0 | L174: 刘菊桃 | M174: 沅江市信用社 | N174: =REPLACE([1]直补到人花名册!$O$3,9,6,"******") -> 87021220******280011
A175: 2024 | B175: 430981102005 | C175: 湖南省益阳市沅江市四季红镇四季红社区 | D175: 刘丽娟 | E175: =REPLACE([1]直补到人花名册!$E:$E,9,6,"******") -> 43230219******5823 | F175: 1 | G175: 600 | H175: 1 | I175: 600 | J175: 0 | K175: 0 | L175: 刘丽娟 | M175: 沅江市信用社 | N175: =REPLACE([1]直补到人花名册!$O$3,9,6,"******") -> 87021220******280011
A176: 2024 | B176: 430981102005 | C176: 湖南省益阳市沅江市四季红镇四季红社区 | D176: 李雪花 | E176: =REPLACE([1]直补到人花名册!$E:$E,9,6,"******") -> 43098119******544X | F176: 3 | G176: 1800 | H176: 3 | I176: 1800 | J176: 0 | K176: 0 | L176: 李雪花 | M176: 沅江市信用社 | N176: =REPLACE([1]直补到人花名册!$O$3,9,6,"******") -> 87021220******280011
A177: 2024 | B177: 430981102005 | C177: 湖南省益阳市沅江市四季红镇四季红社区 | D177: 夏丹腊 | E177: =REPLACE([1]直补到人花名册!$E:$E,9,6,"******") -> 43098119******5448 | F177: 0 | G177: 0 | H177: 0 | I177: 0 | J177: 0 | K177: 0 | N177: =REPLACE([1]直补到人花名册!$O$3,9,6,"******") -> 87021220******280011
A178: 2024 | B178: 430981102005 | C178: 湖南省益阳市沅江市四季红镇四季红社区 | D178: 夏寿昌 | E178: =REPLACE([1]直补到人花名册!$E:$E,9,6,"******") -> 43230219******5818 | F178: 9 | G178: 5400 | H178: 9 | I178: 5400 | J178: 0 | K178: 0 | L178: 夏寿昌 | M178: 沅江市信用社 | N178: =REPLACE([1]直补到人花名册!$O$3,9,6,"******") -> 87021220******280011
A179: 2024 | B179: 430981102005 | C179: 湖南省益阳市沅江市四季红镇四季红社区 | D179: 陈训良 | E179: =REPLACE([1]直补到人花名册!$E:$E,9,6,"******") -> 43230219******5819 | F179: 4 | G179: 2400 | H179: 4 | I179: 2400 | J179: 0 | K179: 0 | L179: 陈训良 | M179: 沅江市信用社 | N179: =REPLACE([1]直补到人花名册!$O$3,9,6,"******") -> 87021220******280011
A180: 2024 | B180: 430981102005 | C180: 湖南省益阳市沅江市四季红镇四季红社区 | D180: 夏桂花 | E180: =REPLACE([1]直补到人花名册!$E:$E,9,6,"******") -> 43098119******5429 | F180: 1 | G180: 600 | H180: 1 | I180: 600 | J180: 0 | K180: 0 | L180: 夏桂花 | M180: 沅江市信用社 | N180: =REPLACE([1]直补到人花名册!$O$3,9,6,"******") -> 87021220******280011
A181: 2024 | B181: 430981102005 | C181: 湖南省益阳市沅江市四季红镇四季红社区 | D181: 胡阳丽 | E181: =REPLACE([1]直补到人花名册!$E:$E,9,6,"******") -> 43098119******5426 | F181: 2 | G181: 1200 | H181: 2 | I181: 1200 | J181: 0 | K181: 0 | L181: 胡阳丽 | M181: 沅江市信用社 | N181: =REPLACE([1]直补到人花名册!$O$3,9,6,"******") -> 87021220******280011
A182: 2024 | B182: 430981102005 | C182: 湖南省益阳市沅江市四季红镇四季红社区 | D182: 谌娟 | E182: =REPLACE([1]直补到人花名册!$E:$E,9,6,"******") -> 43010319******3523 | F182: 0 | G182: 0 | H182: 0 | I182: 0 | J182: 0 | K182: 0 | N182: =REPLACE([1]直补到人花名册!$O$3,9,6,"******") -> 87021220******280011
A183: 2024 | B183: 430981102005 | C183: 湖南省益阳市沅江市四季红镇四季红社区 | D183: 张常成 | E183: =REPLACE([1]直补到人花名册!$E:$E,9,6,"******") -> 43230219******5811 | F183: 3 | G183: 1800 | H183: 3 | I183: 1800 | J183: 0 | K183: 0 | L183: 张常成 | M183: 沅江市信用社 | N183: =REPLACE([1]直补到人花名册!$O$3,9,6,"******") -> 87021220******280011
A184: 2024 | B184: 430981102005 | C184: 湖南省益阳市沅江市四季红镇四季红社区 | D184: 李龙瑞 | E184: =REPLACE([1]直补到人花名册!$E:$E,9,6,"******") -> 43230219******5817 | F184: 4 | G184: 2400 | H184: 4 | I184: 2400 | J184: 0 | K184: 0 | L184: 李龙瑞 | M184: 沅江市信用社 | N184: =REPLACE([1]直补到人花名册!$O$3,9,6,"******") -> 87021220******280011
A185: 2024 | B185: 430981102005 | C185: 湖南省益阳市沅江市四季红镇四季红社区 | D185: 伍朱梅 | E185: =REPLACE([1]直补到人花名册!$E:$E,9,6,"******") -> 43230219******5823 | F185: 0 | G185: 0 | H185: 0 | I185: 0 | J185: 0 | K185: 0 | N185: =REPLACE([1]直补到人花名册!$O$3,9,6,"******") -> 87021220******280011
A186: 2024 | B186: 430981102005 | C186: 湖南省益阳市沅江市四季红镇四季红社区 | D186: 张安怀 | E186: =REPLACE([1]直补到人花名册!$E:$E,9,6,"******") -> 43230219******5814 | F186: 4 | G186: 2400 | H186: 4 | I186: 2400 | J186: 0 | K186: 0 | L186: 张安怀 | M186: 沅江市信用社 | N186: =REPLACE([1]直补到人花名册!$O$3,9,6,"******") -> 87021220******280011
A187: 2024 | B187: 430981102005 | C187: 湖南省益阳市沅江市四季红镇四季红社区 | D187: 程中容 | E187: =REPLACE([1]直补到人花名册!$E:$E,9,6,"******") -> 43230219******5842 | F187: 0 | G187: 0 | H187: 0 | I187: 0 | J187: 0 | K187: 0 | L187: 程中容 | M187: 沅江市信用社 | N187: =REPLACE([1]直补到人花名册!$O$3,9,6,"******") -> 87021220******280011
A188: 2024 | B188: 430981102005 | C188: 湖南省益阳市沅江市四季红镇四季红社区 | D188: 周清林 | E188: =REPLACE([1]直补到人花名册!$E:$E,9,6,"******") -> 43230219******5832 | F188: 0 | G188: 0 | H188: 0 | I188: 0 | J188: 0 | K188: 0 | L188: 周清林 | M188: 沅江市信用社 | N188: =REPLACE([1]直补到人花名册!$O$3,9,6,"******") -> 87021220******280011
A189: 2024 | B189: 430981102005 | C189: 湖南省益阳市沅江市四季红镇四季红社区 | D189: 邓华 | E189: =REPLACE([1]直补到人花名册!$E:$E,9,6,"******") -> 43230219******5867 | F189: 0 | G189: 0 | H189: 0 | I189: 0 | J189: 0 | K189: 0 | L189: 邓华 | M189: 沅江市信用社 | N189: =REPLACE([1]直补到人花名册!$O$3,9,6,"******") -> 87021220******280011
A190: 2024 | B190: 430981102005 | C190: 湖南省益阳市沅江市四季红镇四季红社区 | D190: 张南平 | E190: =REPLACE([1]直补到人花名册!$E:$E,9,6,"******") -> 43230219******0017 | F190: 0 | G190: 0 | H190: 0 | I190: 0 | J190: 0 | K190: 0 | N190: =REPLACE([1]直补到人花名册!$O$3,9,6,"******") -> 87021220******280011
A191: 2024 | B191: 430981102005 | C191: 湖南省益阳市沅江市四季红镇四季红社区 | D191: 伍晓梅 | E191: =REPLACE([1]直补到人花名册!$E:$E,9,6,"******") -> 43230219******5824 | F191: 0 | G191: 0 | H191: 0 | I191: 0 | J191: 0 | K191: 0 | N191: =REPLACE([1]直补到人花名册!$O$3,9,6,"******") -> 87021220******280011
A192: 2024 | B192: 430981102005 | C192: 湖南省益阳市沅江市四季红镇四季红社区 | D192: 夏智花 | E192: =REPLACE([1]直补到人花名册!$E:$E,9,6,"******") -> 43230219******5825 | F192: 0 | G192: 0 | H192: 0 | I192: 0 | J192: 0 | K192: 0 | L192: 夏智花 | M192: 沅江市信用社 | N192: =REPLACE([1]直补到人花名册!$O$3,9,6,"******") -> 87021220******280011
A193: 2024 | B193: 430981102005 | C193: 湖南省益阳市沅江市四季红镇四季红社区 | D193: 夏竟化 | E193: =REPLACE([1]直补到人花名册!$E:$E,9,6,"******") -> 43230219******5833 | F193: 0 | G193: 0 | H193: 0 | I193: 0 | J193: 0 | K193: 0 | N193: =REPLACE([1]直补到人花名册!$O$3,9,6,"******") -> 87021220******280011
A194: 2024 | B194: 430981102005 | C194: 湖南省益阳市沅江市四季红镇四季红社区 | D194: 夏永东 | E194: =REPLACE([1]直补到人花名册!$E:$E,9,6,"******") -> 43230219******7511 | F194: 0 | G194: 0 | H194: 0 | I194: 0 | J194: 0 | K194: 0 | N194: =REPLACE([1]直补到人花名册!$O$3,9,6,"******") -> 87021220******280011
A195: 2024 | B195: 430981102005 | C195: 湖南省益阳市沅江市四季红镇四季红社区 | D195: 尹镇 | E195: =REPLACE([1]直补到人花名册!$E:$E,9,6,"******") -> 43098119******5436 | F195: 1 | G195: 600 | H195: 1 | I195: 600 | J195: 0 | K195: 0 | L195: 尹付田 | M195: 沅江市信用社 | N195: =REPLACE([1]直补到人花名册!$O$3,9,6,"******") -> 87021220******280011
A196: 2024 | B196: 430981102005 | C196: 湖南省益阳市沅江市四季红镇四季红社区 | D196: 尹溪生 | E196: =REPLACE([1]直补到人花名册!$E:$E,9,6,"******") -> 43098119******5435 | F196: 4 | G196: 2400 | H196: 4 | I196: 2400 | J196: 0 | K196: 0 | L196: 尹溪生 | M196: 沅江市信用社 | N196: =REPLACE([1]直补到人花名册!$O$3,9,6,"******") -> 87021220******280011
A197: 2024 | B197: 430981102005 | C197: 湖南省益阳市沅江市四季红镇四季红社区 | D197: 尹坤赞 | E197: =REPLACE([1]直补到人花名册!$E:$E,9,6,"******") -> 43230219******5812 | F197: 5 | G197: 3000 | H197: 5 | I197: 3000 | J197: 0 | K197: 0 | L197: 尹坤赞 | M197: 沅江市信用社 | N197: =REPLACE([1]直补到人花名册!$O$3,9,6,"******") -> 87021220******280011
A198: 2024 | B198: 430981102005 | C198: 湖南省益阳市沅江市四季红镇四季红社区 | D198: 夏任德 | E198: =REPLACE([1]直补到人花名册!$E:$E,9,6,"******") -> 43230219******583X | F198: 3 | G198: 1800 | H198: 3 | I198: 1800 | J198: 0 | K198: 0 | L198: 夏任德 | M198: 沅江市信用社 | N198: =REPLACE([1]直补到人花名册!$O$3,9,6,"******") -> 87021220******280011
A199: 2024 | B199: 430981102005 | C199: 湖南省益阳市沅江市四季红镇四季红社区 | D199: 尹爱花 | E199: =REPLACE([1]直补到人花名册!$E:$E,9,6,"******") -> 43230219******5822 | F199: 2 | G199: 1200 | H199: 2 | I199: 1200 | J199: 0 | K199: 0 | L199: 尹爱花 | M199: 沅江市信用社 | N199: =REPLACE([1]直补到人花名册!$O$3,9,6,"******") -> 87021220******280011
A200: 2024 | B200: 430981102005 | C200: 湖南省益阳市沅江市四季红镇四季红社区 | D200: 夏有力 | E200: =REPLACE([1]直补到人花名册!$E:$E,9,6,"******") -> 43230219******5818 | F200: 1 | G200: 600 | H200: 1 | I200: 600 | J200: 0 | K200: 0 | L200: 夏政求 | M200: 沅江市信用社 | N200: =REPLACE([1]直补到人花名册!$O$3,9,6,"******") -> 87021220******280011
A201: 2024 | B201: 430981102005 | C201: 湖南省益阳市沅江市四季红镇四季红社区 | D201: 梁姣然 | E201: =REPLACE([1]直补到人花名册!$E:$E,9,6,"******") -> 43230219******5822 | F201: 0 | G201: 0 | H201: 0 | I201: 0 | J201: 0 | K201: 0 | L201: 梁姣然 | M201: 沅江市信用社 | N201: =REPLACE([1]直补到人花名册!$O$3,9,6,"******") -> 87021220******280011
A202: 2024 | B202: 430981102005 | C202: 湖南省益阳市沅江市四季红镇四季红社区 | D202: 彭跃武 | E202: =REPLACE([1]直补到人花名册!$E:$E,9,6,"******") -> 43230219******5816 | F202: 0 | G202: 0 | H202: 0 | I202: 0 | J202: 0 | K202: 0 | L202: 彭跃武 | M202: 沅江市信用社 | N202: =REPLACE([1]直补到人花名册!$O$3,9,6,"******") -> 87021220******280011
A203: 2024 | B203: 430981102005 | C203: 湖南省益阳市沅江市四季红镇四季红社区 | D203: 李再和 | E203: =REPLACE([1]直补到人花名册!$E:$E,9,6,"******") -> 43230219******5812 | F203: 0 | G203: 0 | H203: 0 | I203: 0 | J203: 0 | K203: 0 | L203: 李再和 | M203: 沅江市信用社 | N203: =REPLACE([1]直补到人花名册!$O$3,9,6,"******") -> 87021220******280011
A204: 2024 | B204: 430981102005 | C204: 湖南省益阳市沅江市四季红镇四季红社区 | D204: 张满辉 | E204: =REPLACE([1]直补到人花名册!$E:$E,9,6,"******") -> 43230219******5828 | F204: 0 | G204: 0 | H204: 0 | I204: 0 | J204: 0 | K204: 0 | N204: =REPLACE([1]直补到人花名册!$O$3,9,6,"******") -> 87021220******280011
A205: 2024 | B205: 430981102005 | C205: 湖南省益阳市沅江市四季红镇四季红社区 | D205: 李周全 | E205: =REPLACE([1]直补到人花名册!$E:$E,9,6,"******") -> 43230219******5814 | F205: 2 | G205: 1200 | H205: 2 | I205: 1200 | J205: 0 | K205: 0 | L205: 李周全 | M205: 沅江市信用社 | N205: =REPLACE([1]直补到人花名册!$O$3,9,6,"******") -> 87021220******280011
A206: 2024 | B206: 430981102005 | C206: 湖南省益阳市沅江市四季红镇四季红社区 | D206: 刘成君 | E206: =REPLACE([1]直补到人花名册!$E:$E,9,6,"******") -> 43230219******5813 | F206: 3 | G206: 1800 | H206: 3 | I206: 1800 | J206: 0 | K206: 0 | L206: 刘成君 | M206: 沅江市信用社 | N206: =REPLACE([1]直补到人花名册!$O$3,9,6,"******") -> 87021220******280011
A207: 2024 | B207: 430981102005 | C207: 湖南省益阳市沅江市四季红镇四季红社区 | D207: 胡松和 | E207: =REPLACE([1]直补到人花名册!$E:$E,9,6,"******") -> 43230219******5819 | F207: 5 | G207: 3000 | H207: 5 | I207: 3000 | J207: 0 | K207: 0 | L207: 胡松和 | M207: 沅江市信用社 | N207: =REPLACE([1]直补到人花名册!$O$3,9,6,"******") -> 87021220******280011
A208: 2024 | B208: 430981102005 | C208: 湖南省益阳市沅江市四季红镇四季红社区 | D208: 夏海军 | E208: =REPLACE([1]直补到人花名册!$E:$E,9,6,"******") -> 43230219******581X | F208: 3 | G208: 1800 | H208: 3 | I208: 1800 | J208: 0 | K208: 0 | L208: 夏海军 | M208: 沅江市信用社 | N208: =REPLACE([1]直补到人花名册!$O$3,9,6,"******") -> 87021220******280011
A209: 2024 | B209: 430981102005 | C209: 湖南省益阳市沅江市四季红镇四季红社区 | D209: 邓稳梅 | E209: =REPLACE([1]直补到人花名册!$E:$E,9,6,"******") -> 43230219******5829 | F209: 1 | G209: 600 | H209: 1 | I209: 600 | J209: 0 | K209: 0 | L209: 邓稳梅 | M209: 沅江市信用社 | N209: =REPLACE([1]直补到人花名册!$O$3,9,6,"******") -> 87021220******280011
...
