Workbook

Sheet 直补到人花名册
A1: 年度 | B1: 行政区划编码 | C1: 行政区划名称 | D1: 户主姓名 | E1: 户主身份证 | F1: 总人数 | G1: 总资金(元) | H1: 直补到人人数 | I1: 直补到人金额(元) | J1: 两者结合人数 | K1: 两者结合金额(元) | L1: 账号名称 | M1: 开户银行 | N1: 银行账号
A2: 2024 | B2: 430981006015 | C2: 湖南省益阳市沅江市琼湖街道金田社区 | D2: 彭玉华 | E2: =REPLACE([1]直补到人花名册!$E:$E,9,6,"******") -> 43098119******0349 | F2: 1 | G2: 600 | H2: 1 | I2: 600 | J2: 0 | K2: 0
A3: 2024 | B3: 430981006017 | C3: 湖南省益阳市沅江市琼湖街道太白社区 | D3: 杨乐娟 | E3: =REPLACE([1]直补到人花名册!$E:$E,9,6,"******") -> 43230219******0722 | F3: 1 | G3: 600 | H3: 1 | I3: 600 | J3: 0 | K3: 0 | L3: 杨乐娟 | M3: 沅江市信用社 | N3: =REPLACE([1]直补到人花名册!$O$3,9,6,"******") -> 87021220******280011
A4: 2024 | B4: 430981006017 | C4: 湖南省益阳市沅江市琼湖街道太白社区 | D4: 夏中瑶 | E4: =REPLACE([1]直补到人花名册!$E:$E,9,6,"******") -> 43230219******0723 | F4: 1 | G4: 600 | H4: 1 | I4: 600 | J4: 0 | K4: 0 | L4: 夏中瑶 | M4: 沅江市信用社 | N4: =REPLACE([1]直补到人花名册!$O$3,9,6,"******") -> 87021220******280011
A5: 2024 | B5: 430981006021 | C5: 湖南省益阳市沅江市琼湖街道和平社区 | D5: 夏成友 | E5: =REPLACE([1]直补到人花名册!$E:$E,9,6,"******") -> 43230219******0033 | F5: 0 | G5: 0 | H5: 0 | I5: 0 | J5: 0 | K5: 0 | L5: 夏成友 | M5: 沅江市信用社 | N5: =REPLACE([1]直补到人花名册!$O$3,9,6,"******") -> 87021220******280011
A6: 2024 | B6: 430981006026 | C6: 湖南省益阳市沅江市琼湖街道凌云塔社区 | D6: 彭庆云 | E6: =REPLACE([1]直补到人花名册!$E:$E,9,6,"******") -> 43230219******0527 | F6: 1 | G6: 600 | H6: 1 | I6: 600 | J6: 0 | K6: 0 | L6: 彭庆云 | M6: 农村信用社 | N6: =REPLACE([1]直补到人花名册!$O$3,9,6,"******") -> 87021220******280011
A7: 2024 | B7: 430981006212 | C7: 湖南省益阳市沅江市琼湖街道共和社区 | D7: 夏化珍 | E7: =REPLACE([1]直补到人花名册!$E:$E,9,6,"******") -> 43230219******0721 | F7: 1 | G7: 600 | H7: 1 | I7: 600 | J7: 0 | K7: 0 | L7: 夏化珍 | M7: 沅江市信用社 | N7: =REPLACE([1]直补到人花名册!$O$3,9,6,"******") -> 87021220******280011
A8: 2024 | B8: 430981007001 | C8: 湖南省益阳市沅江市胭脂湖街道海上社区 | D8: 李育红 | E8: =REPLACE([1]直补到人花名册!$E:$E,9,6,"******") -> 43230219******6827 | F8: 1 | G8: 600 | H8: 1 | I8: 600 | J8: 0 | K8: 0 | N8: =REPLACE([1]直补到人花名册!$O$3,9,6,"******") -> 87021220******280011
A9: 2024 | B9: 430981007001 | C9: 湖南省益阳市沅江市胭脂湖街道海上社区 | D9: 夏丽君 | E9: =REPLACE([1]直补到人花名册!$E:$E,9,6,"******") -> 43230219******6646 | F9: 1 | G9: 600 | H9: 1 | I9: 600 | J9: 0 | K9: 0 | L9: 夏丽君 | M9: 沅江市信用社 | N9: =REPLACE([1]直补到人花名册!$O$3,9,6,"******") -> 87021220******280011
A10: 2024 | B10: 430981007001 | C10: 湖南省益阳市沅江市胭脂湖街道海上社区 | D10: 匡秋明 | E10: =REPLACE([1]直补到人花名册!$E:$E,9,6,"******") -> 43230119******5514 | F10: 1 | G10: 600 | H10: 1 | I10: 600 | J10: 0 | K10: 0 | L10: 匡秋明 | M10: 沅江市信用社 | N10: =REPLACE([1]直补到人花名册!$O$3,9,6,"******") -> 87021220******280011
A11: 2024 | B11: 430981007001 | C11: 湖南省益阳市沅江市胭脂湖街道海上社区 | D11: 胡军香 | E11: =REPLACE([1]直补到人花名册!$E:$E,9,6,"******") -> 43230219******6625 | F11: 1 | G11: 600 | H11: 1 | I11: 600 | J11: 0 | K11: 0 | L11: 胡军香 | M11: 沅江市信用社 | N11: =REPLACE([1]直补到人花名册!$O$3,9,6,"******") -> 87021220******280011
A12: 2024 | B12: 430981007201 | C12: 湖南省益阳市沅江市胭脂湖街道杨梅山村 | D12: 周桂香 | E12: =REPLACE([1]直补到人花名册!$E:$E,9,6,"******") -> 43230219******6822 | F12: 1 | G12: 600 | H12: 1 | I12: 600 | J12: 0 | K12: 0 | L12: 周桂香 | M12: 沅江市信用社 | N12: =REPLACE([1]直补到人花名册!$O$3,9,6,"******") -> 87021220******280011
A13: 2024 | B13: 430981007201 | C13: 湖南省益阳市沅江市胭脂湖街道杨梅山村 | D13: 钟卫兰 | E13: =REPLACE([1]直补到人花名册!$E:$E,9,6,"******") -> 43230219******6828 | F13: 1 | G13: 600 | H13: 1 | I13: 600 | J13: 0 | K13: 0 | N13: =REPLACE([1]直补到人花名册!$O$3,9,6,"******") -> 87021220******280011
A14: 2024 | B14: 430981007201 | C14: 湖南省益阳市沅江市胭脂湖街道杨梅山村 | D14: 曹长江 | E14: =REPLACE([1]直补到人花名册!$E:$E,9,6,"******") -> 43230219******6834 | F14: 1 | G14: 600 | H14: 1 | I14: 600 | J14: 0 | K14: 0 | L14: 曹长江 | M14: 沅江市信用社 | N14: =REPLACE([1]直补到人花名册!$O$3,9,6,"******") -> 87021220******280011
A15: 2024 | B15: 430981007201 | C15: 湖南省益阳市沅江市胭脂湖街道杨梅山村 | D15: 曹杨 | E15: =REPLACE([1]直补到人花名册!$E:$E,9,6,"******") -> 43098119******6612 | F15: 1 | G15: 600 | H15: 1 | I15: 600 | J15: 0 | K15: 0 | L15: 曹长江 | M15: 农村信用社 | N15: =REPLACE([1]直补到人花名册!$O$3,9,6,"******") -> 87021220******280011
A16: 2024 | B16: 430981007211 | C16: 湖南省益阳市沅江市胭脂湖街道荷花村 | D16: 龚淑蓉 | E16: =REPLACE([1]直补到人花名册!$E:$E,9,6,"******") -> 43230219******682X | F16: 1 | G16: 600 | H16: 1 | I16: 600 | J16: 0 | K16: 0 | L16: 龚淑蓉 | M16: 沅江市信用社 | N16: =REPLACE([1]直补到人花名册!$O$3,9,6,"******") -> 87021220******280011
A17: 2024 | B17: 430981007211 | C17: 湖南省益阳市沅江市胭脂湖街道荷花村 | D17: 邓凤中 | E17: =REPLACE([1]直补到人花名册!$E:$E,9,6,"******") -> 43230219******6828 | F17: 1 | G17: 600 | H17: 1 | I17: 600 | J17: 0 | K17: 0 | L17: 邓凤中 | M17: 沅江市信用社 | N17: =REPLACE([1]直补到人花名册!$O$3,9,6,"******") -> 87021220******280011
A18: 2024 | B18: 430981007212 | C18: 湖南省益阳市沅江市胭脂湖街道十里坪村 | D18: 曾满秀 | E18: =REPLACE([1]直补到人花名册!$E:$E,9,6,"******") -> 43230219******6626 | F18: 1 | G18: 600 | H18: 1 | I18: 600 | J18: 0 | K18: 0 | L18: 曾满秀 | M18: 沅江市信用社 | N18: =REPLACE([1]直补到人花名册!$O$3,9,6,"******") -> 87021220******280011
A19: 2024 | B19: 430981007214 | C19: 湖南省益阳市沅江市胭脂湖街道黄家湖村 | D19: 熊芝莲 | E19: =REPLACE([1]直补到人花名册!$E:$E,9,6,"******") -> 43230219******6620 | F19: 1 | G19: 600 | H19: 1 | I19: 600 | J19: 0 | K19: 0 | L19: 熊芝莲 | M19: 沅江市信用社 | N19: =REPLACE([1]直补到人花名册!$O$3,9,6,"******") -> 87021220******280011
A20: 2024 | B20: 430981100210 | C20: 湖南省益阳市沅江市南大膳镇牛洲村 | D20: 毛文英 | E20: =REPLACE([1]直补到人花名册!$E:$E,9,6,"******") -> 43230219******4024 | F20: 1 | G20: 600 | H20: 1 | I20: 600 | J20: 0 | K20: 0 | L20: 毛文英 | M20: 沅江市信用社 | N20: =REPLACE([1]直补到人花名册!$O$3,9,6,"******") -> 87021220******280011
A21: 2024 | B21: 430981100220 | C21: 湖南省益阳市沅江市南大膳镇南大河村 | D21: 徐平安 | E21: =REPLACE([1]直补到人花名册!$E:$E,9,6,"******") -> 43098119******3921 | F21: 1 | G21: 600 | H21: 1 | I21: 600 | J21: 0 | K21: 0 | L21: 徐平安 | M21: 沅江市信用社 | N21: =REPLACE([1]直补到人花名册!$O$3,9,6,"******") -> 87021220******280011
A22: 2024 | B22: 430981100220 | C22: 湖南省益阳市沅江市南大膳镇南大河村 | D22: 李正财 | E22: =REPLACE([1]直补到人花名册!$E:$E,9,6,"******") -> 43230219******4014 | F22: 5 | G22: 3000 | H22: 5 | I22: 3000 | J22: 0 | K22: 0 | L22: 李正财 | M22: 沅江市信用社 | N22: =REPLACE([1]直补到人花名册!$O$3,9,6,"******") -> 87021220******280011
A23: 2024 | B23: 430981100220 | C23: 湖南省益阳市沅江市南大膳镇南大河村 | D23: 徐来安 | E23: =REPLACE([1]直补到人花名册!$E:$E,9,6,"******") -> 43230219******4021 | F23: 1 | G23: 600 | H23: 1 | I23: 600 | J23: 0 | K23: 0 | L23: 徐来安 | M23: 沅江市信用社 | N23: =REPLACE([1]直补到人花名册!$O$3,9,6,"******") -> 87021220******280011
A24: 2024 | B24: 430981100220 | C24: 湖南省益阳市沅江市南大膳镇南大河村 | D24: 徐良安 | E24: =REPLACE([1]直补到人花名册!$E:$E,9,6,"******") -> 43230219******4329 | F24: 1 | G24: 600 | H24: 1 | I24: 600 | J24: 0 | K24: 0 | L24: 徐良安 | M24: 沅江市信用社 | N24: =REPLACE([1]直补到人花名册!$O$3,9,6,"******") -> 87021220******280011
A25: 2024 | B25: 430981100279 | C25: 湖南省益阳市沅江市南大膳镇合利红村 | D25: 肖志余 | E25: =REPLACE([1]直补到人花名册!$E:$E,9,6,"******") -> 43230219******4521 | F25: 1 | G25: 600 | H25: 1 | I25: 600 | J25: 0 | K25: 0 | L25: 肖志余 | M25: 沅江市信用社 | N25: =REPLACE([1]直补到人花名册!$O$3,9,6,"******") -> 87021220******280011
... A135: 2024 | B135: 430981102005 | C135: 湖南省益阳市沅江市四季红镇四季红社区 | D135: 尹爱强 | E135: =REPLACE([1]直补到人花名册!$E:$E,9,6,"******") -> 43230219******5815 | F135: 4 | G135: 2400 | H135: 4 | I135: 2400 | J135: 0 | K135: 0 | L135: 尹爱强 | M135: 沅江市信用社 | N135: =REPLACE([1]直补到人花名册!$O$3,9,6,"******") -> 87021220******280011
A136: 2024 | B136: 430981102005 | C136: 湖南省益阳市沅江市四季红镇四季红社区 | D136: 夏光华 | E136: =REPLACE([1]直补到人花名册!$E:$E,9,6,"******") -> 43098119******1812 | F136: 0 | G136: 0 | H136: 0 | I136: 0 | J136: 0 | K136: 0 | N136: =REPLACE([1]直补到人花名册!$O$3,9,6,"******") -> 87021220******280011
A137: 2024 | B137: 430981102005 | C137: 湖南省益阳市沅江市四季红镇四季红社区 | D137: 夏玉辉 | E137: =REPLACE([1]直补到人花名册!$E:$E,9,6,"******") -> 43230219******4513 | F137: 0 | G137: 0 | H137: 0 | I137: 0 | J137: 0 | K137: 0 | N137: =REPLACE([1]直补到人花名册!$O$3,9,6,"******") -> 87021220******280011
A138: 2024 | B138: 430981102005 | C138: 湖南省益阳市沅江市四季红镇四季红社区 | D138: 李石后 | E138: =REPLACE([1]直补到人花名册!$E:$E,9,6,"******") -> 43098119******5432 | F138: 4 | G138: 2400 | H138: 4 | I138: 2400 | J138: 0 | K138: 0 | L138: 李石后 | M138: 沅江市信用社 | N138: =REPLACE([1]直补到人花名册!$O$3,9,6,"******") -> 87021220******280011
A139: 2024 | B139: 430981102005 | C139: 湖南省益阳市沅江市四季红镇四季红社区 | D139: 胡飞平 | E139: =REPLACE([1]直补到人花名册!$E:$E,9,6,"******") -> 43098119******5442 | F139: 0 | G139: 0 | H139: 0 | I139: 0 | J139: 0 | K139: 0 | L139: 胡飞平 | M139: 沅江市信用社 | N139: =REPLACE([1]直补到人花名册!$O$3,9,6,"******") -> 87021220******280011
A140: 2024 | B140: 430981102005 | C140: 湖南省益阳市沅江市四季红镇四季红社区 | D140: 夏付友 | E140: =REPLACE([1]直补到人花名册!$E:$E,9,6,"******") -> 43230219******5813 | F140: 0 | G140: 0 | H140: 0 | I140: 0 | J140: 0 | K140: 0 | L140: 夏付友 | M140: 沅江市信用社 | N140: =REPLACE([1]直补到人花名册!$O$3,9,6,"******") -> 87021220******280011
A141: 2024 | B141: 430981102005 | C141: 湖南省益阳市沅江市四季红镇四季红社区 | D141: 伍秋和 | E141: =REPLACE([1]直补到人花名册!$E:$E,9,6,"******") -> 43230219******581X | F141: 0 | G141: 0 | H141: 0 | I141: 0 | J141: 0 | K141: 0 | L141: 伍秋和 | M141: 沅江市信用社 | N141: =REPLACE([1]直补到人花名册!$O$3,9,6,"******") -> 87021220******280011
A142: 2024 | B142: 430981102005 | C142: 湖南省益阳市沅江市四季红镇四季红社区 | D142: 夏龙斌 | E142: =REPLACE([1]直补到人花名册!$E:$E,9,6,"******") -> 43230219******5816 | F142: 4 | G142: 2400 | H142: 4 | I142: 2400 | J142: 0 | K142: 0 | L142: 夏龙斌 | M142: 沅江市信用社 | N142: =REPLACE([1]直补到人花名册!$O$3,9,6,"******") -> 87021220******280011
A143: 2024 | B143: 430981102005 | C143: 湖南省益阳市沅江市四季红镇四季红社区 | D143: 夏威 | E143: =REPLACE([1]直补到人花名册!$E:$E,9,6,"******") -> 43098119******5437 | F143: 0 | G143: 0 | H143: 0 | I143: 0 | J143: 0 | K143: 0 | L143: 夏威 | M143: 沅江市信用社 | N143: =REPLACE([1]直补到人花名册!$O$3,9,6,"******") -> 87021220******280011
A144: 2024 | B144: 430981102005 | C144: 湖南省益阳市沅江市四季红镇四季红社区 | D144: 夏拥军 | E144: =REPLACE([1]直补到人花名册!$E:$E,9,6,"******") -> 43230219******5819 | F144: 3 | G144: 1800 | H144: 3 | I144: 1800 | J144: 0 | K144: 0 | L144: 夏拥军 | M144: 沅江市信用社 | N144: =REPLACE([1]直补到人花名册!$O$3,9,6,"******") -> 87021220******280011
A145: 2024 | B145: 430981102005 | C145: 湖南省益阳市沅江市四季红镇四季红社区 | D145: 李春红 | E145: =REPLACE([1]直补到人花名册!$E:$E,9,6,"******") -> 43230219******5817 | F145: 2 | G145: 1200 | H145: 2 | I145: 1200 | J145: 0 | K145: 0 | L145: 李沁 | M145: 沅江市信用社 | N145: =REPLACE([1]直补到人花名册!$O$3,9,6,"******") -> 87021220******280011
A146: 2024 | B146: 430981102005 | C146: 湖南省益阳市沅江市四季红镇四季红社区 | D146: 谢红梅 | E146: =REPLACE([1]直补到人花名册!$E:$E,9,6,"******") -> 43098119******5447 | F146: 3 | G146: 1800 | H146: 3 | I146: 1800 | J146: 0 | K146: 0 | L146: 谢红梅 | M146: 沅江市信用社 | N146: =REPLACE([1]直补到人花名册!$O$3,9,6,"******") -> 87021220******280011
A147: 2024 | B147: 430981102005 | C147: 湖南省益阳市沅江市四季红镇四季红社区 | D147: 夏登科 | E147: =REPLACE([1]直补到人花名册!$E:$E,9,6,"******") -> 43230219******5816 | F147: 2 | G147: 1200 | H147: 2 | I147: 1200 | J147: 0 | K147: 0 | L147: 夏登科 | M147: 沅江市信用社 | N147: =REPLACE([1]直补到人花名册!$O$3,9,6,"******") -> 87021220******280011
A148: 2024 | B148: 430981102005 | C148: 湖南省益阳市沅江市四季红镇四季红社区 | D148: 张欣宜 | E148: =REPLACE([1]直补到人花名册!$E:$E,9,6,"******") -> 43098120******5420 | F148: 0 | G148: 0 | H148: 0 | I148: 0 | J148: 0 | K148: 0 | N148: =REPLACE([1]直补到人花名册!$O$3,9,6,"******") -> 87021220******280011
A149: 2024 | B149: 430981102005 | C149: 湖南省益阳市沅江市四季红镇四季红社区 | D149: 夏朝辉 | E149: =REPLACE([1]直补到人花名册!$E:$E,9,6,"******") -> 43230219******5815 | F149: 0 | G149: 0 | H149: 0 | I149: 0 | J149: 0 | K149: 0 | L149: 夏朝辉 | M149: 沅江市信用社 | N149: =REPLACE([1]直补到人花名册!$O$3,9,6,"******") -> 87021220******280011
...
