{"text_format":"3","workbook":"xlsx","n_sheets":2,"sheets":["汇总表","明细表"],"not_rendered":{"external_links":1,"defined_names":3},"read":"whole","date_system":"1900"}

{"sheet":"汇总表","index":0,"n_rows":15,"n_cols":5,"rows_kept":15,"merged":[[0,0,0,4]]}
["沅江市2020年第六批（动态新增）资金拨付汇总表"]
["序号","单位","指标数","资金","备注"]
[1,"泗湖山镇",54,{"$f":"C3*2.45","v":132.3}]
[2,"草尾镇",42,102.9]
[3,"南大膳镇",37,90.65]
[4,"共华镇",33,80.85]
[5,"阳罗洲镇",14,34.3]
[6,"黄茅洲镇",20,49]
[7,"胭脂湖街道",9,22.05]
[8,"新湾镇",5,12.25]
[9,"南嘴镇",4,9.8]
[10,"南洞庭芦苇场",4,9.8]
[11,"漉湖芦苇场",2,4.9]
[12,"四季红镇",2,4.9]
[13,"合计",{"$f":"SUM(C3:C14)","v":226},553.7]

{"sheet":"明细表","index":1,"n_rows":228,"n_cols":17,"rows_kept":228,"merged":[[0,0,0,16]]}
["沅江市2020年第六批（动态新增）资金拨付明细表"]
["序号","乡（镇）","村民委员会","户主姓名","身份证号","农房危险性等级","纳入途径","四类重点对象类型/其他","家庭人口","改造方式","建设方式","补助金额","农户联系方式","领款人","领款人身份证号码","领款人惠农明白折号","备注"]
[1,"草尾镇","保安垸村","高银华","432302****11012314","无房户",{"$f":"VLOOKUP(E3,[1]明细表!$H:$V,15,FALSE)","v":"动态新增"},"五保",1,"新建","代建",34000,"138743***338","祝乐根","432302****05282319","810155****9800709"]
[2,"草尾镇","长乐村","李金秀","432302****04162125","C级",{"$f":"VLOOKUP(E4,[1]明细表!$H:$V,15,FALSE)","v":"查漏补缺"},"五保",1,"维修","代建",17000,"138743***455","胡冬生","432302****11212130","810155****9728404"]
[3,"草尾镇","大同闸村","陈根元","432302****06032118","C级",{"$f":"VLOOKUP(E5,[1]明细表!$H:$V,15,FALSE)","v":"查漏补缺"},"残疾",2,"维修","自建",18000,"158737***787","陈根元","432302****06032118","810155****9702981"]
[4,"草尾镇","东红村","彭双喜","432302****02122318","D级",{"$f":"VLOOKUP(E6,[1]明细表!$H:$V,15,FALSE)","v":"动态新增"},"五保",1,"新建","自建",27000,"185700***728","彭双喜","432302****02122318","810155****9355327"]
[5,"草尾镇","东红村","饶运和","432302****04152318","C级",{"$f":"VLOOKUP(E7,[1]明细表!$H:$V,15,FALSE)","v":"查漏补缺"},"五保",1,"维修","自建",24500,"151162***967","饶运和","432302****04152318","810155****9791363"]
[6,"草尾镇","东红村","周定辉","432302****01142333","C级",{"$f":"VLOOKUP(E8,[1]明细表!$H:$V,15,FALSE)","v":"查漏补缺"},"残疾",2,"维修","自建",26500,"137874***719","周定辉","432302****01142333","810155****9824233"]
[7,"草尾镇","和平村","朱秀英","430981****02211828","C级",{"$f":"VLOOKUP(E9,[1]明细表!$H:$V,15,FALSE)","v":"动态新增"},"低保",1,"维修","自建",18000,"181537***766","朱秀英","430981****02211828","810155****1091220"]
[8,"草尾镇","和平村","李菊香","432302****07031922","C级",{"$f":"VLOOKUP(E10,[1]明细表!$H:$V,15,FALSE)","v":"动态新增"},"低保",5,"维修","自建",20000,"137867***739","李菊香","432302****07031922","810155****0390799"]
[9,"草尾镇","和平村","曾满秀","432302****07281920","C级",{"$f":"VLOOKUP(E11,[1]明细表!$H:$V,15,FALSE)","v":"动态新增"},"低保",2,"维修","自建",25500,"135111***508","曾满秀","432302****07281920","810155****9088095"]
[10,"草尾镇","和平村","高立才","432302****0322191X","C级",{"$f":"VLOOKUP(E12,[1]明细表!$H:$V,15,FALSE)","v":"动态新增"},"残疾",2,"维修","自建",18000,"135111***508","高立才","432302****0322191X","810155****9212764"]
[11,"草尾镇","立新村","张韬","430981****10131810","D级",{"$f":"VLOOKUP(E13,[1]明细表!$H:$V,15,FALSE)","v":"查漏补缺"},"建档立卡贫困户",3,"新建","自建",27000,"135377***828","张韬","430981****10131810","623090****064268834"]
[12,"草尾镇","民主村","刘进坤","432302****05212532","D级",{"$f":"VLOOKUP(E14,[1]明细表!$H:$V,15,FALSE)","v":"查漏补缺"},"五保",1,"新建","自建",27000,"151167***795","刘进坤","432302****05212532","810155****9247742"]
[13,"草尾镇","人和村","段腊梅","430981****09212847","C级",{"$f":"VLOOKUP(E15,[1]明细表!$H:$V,15,FALSE)","v":"动态新增"},"低保",3,"维修","自建",29500,"155762***708","段腊梅","430981****09212847","810155****8366393"]
[14,"草尾镇","人和村","刘菊香","432302****09152123","C级",{"$f":"VLOOKUP(E16,[1]明细表!$H:$V,15,FALSE)","v":"动态新增"},"低保",1,"维修","代建",27000,"158737***808","何国光","432302****01012119","810155****9713985"]
[15,"草尾镇","人和村","陈光荣","432302****12132119","C级",{"$f":"VLOOKUP(E17,[1]明细表!$H:$V,15,FALSE)","v":"查漏补缺"},"五保",1,"维修","自建",28500,"138743***420","陈光荣","432302****12132119","810155****9751625"]
[16,"草尾镇","人益村","杨秋连","432302****08192122","C级",{"$f":"VLOOKUP(E18,[1]明细表!$H:$V,15,FALSE)","v":"动态新增"},"低保",1,"维修","自建",26000,"158737***520","杨秋连","432302****08192122","810155****9758654"]
[17,"草尾镇","三星村","彭述初","430981****10222114","C级",{"$f":"VLOOKUP(E19,[1]明细表!$H:$V,15,FALSE)","v":"动态新增"},"低保",1,"维修","自建",19000,"150737***202","彭述初","430981****10222114","810155****9826230"]
[18,"草尾镇","三星村","匡国华","432302****01272717","C级",{"$f":"VLOOKUP(E20,[1]明细表!$H:$V,15,FALSE)","v":"动态新增"},"低保",3,"维修","自建",28000,"159737***020","匡国华","432302****01272717","810155****9793676"]
[19,"草尾镇","三星村","贺亮波","432302****11012711","C级",{"$f":"VLOOKUP(E21,[1]明细表!$H:$V,15,FALSE)","v":"动态新增"},"低保",4,"维修","自建",19000,"151737***624","贺亮波","432302****11012711","810155****9249658"]
[20,"草尾镇","三星村","陈少春","432302****04022712","C级",{"$f":"VLOOKUP(E22,[1]明细表!$H:$V,15,FALSE)","v":"查漏补缺"},"建档立卡贫困户",3,"维修","自建",30000,"159737***966","陈少春","432302****04022712","810155****9829468"]
[21,"草尾镇","三星村","钟月秋","432302****07242719","C级",{"$f":"VLOOKUP(E23,[1]明细表!$H:$V,15,FALSE)","v":"查漏补缺"},"五保",1,"维修","自建",21000,"181737***498","钟月秋","432302****07242719","810155****9796893"]
[22,"草尾镇","上码头村","胡科良","432302****04021950","D级",{"$f":"VLOOKUP(E24,[1]明细表!$H:$V,15,FALSE)","v":"动态新增"},"低保",1,"新建","代建",33000,"134694***498","胡国良","432302****08291934","810155****9364057"]
[23,"草尾镇","上码头村","杨桂秋","432302****09041937","C级",{"$f":"VLOOKUP(E25,[1]明细表!$H:$V,15,FALSE)","v":"动态新增"},"低保",2,"维修","自建",27000,"131351***945","杨桂秋","432302****09041937","810155****2420176"]
[24,"草尾镇","上码头村","王华","430981****06221818","C级",{"$f":"VLOOKUP(E26,[1]明细表!$H:$V,15,FALSE)","v":"查漏补缺"},"建档立卡贫困户",2,"维修","自建",25000,"152737***100","王华","430981****06221818","810155****1006408"]
[25,"草尾镇","上码头村","刘新民","432302****07201919","C级",{"$f":"VLOOKUP(E27,[1]明细表!$H:$V,15,FALSE)","v":"查漏补缺"},"五保",1,"维修","自建",18000,"156737***348","刘新民","432302****07201919","810155****9244195"]
[26,"草尾镇","上码头村","鲁伏连","432302****06111918","C级",{"$f":"VLOOKUP(E28,[1]明细表!$H:$V,15,FALSE)","v":"查漏补缺"},"五保",1,"维修","自建",18000,"184737***339","鲁伏连","432302****06111918","810155****9228026"]
[27,"草尾镇","上码头村","冯志斌","432302****06231917","C级",{"$f":"VLOOKUP(E29,[1]明细表!$H:$V,15,FALSE)","v":"查漏补缺"},"残疾",5,"维修","自建",18000,"156167***257","冯志斌","432302****06231917","810155****9201489"]
[28,"草尾镇","胜天村","胡立华","430981****07191823","C级",{"$f":"VLOOKUP(E30,[1]明细表!$H:$V,15,FALSE)","v":"查漏补缺"},"建档立卡贫困户",3,"维修","代建",26500,"138737***047","康亮","432302****08241915","810155****9229620"]
[29,"草尾镇","双东村","徐小满","432302****01252313","C级",{"$f":"VLOOKUP(E31,[1]明细表!$H:$V,15,FALSE)","v":"查漏补缺"},"五保",1,"维修","自建",23500,"138737***979","徐小满","432302****01252313","810155****9294816"]
[30,"草尾镇","双东村","丁志云","430981****12252118","C级",{"$f":"VLOOKUP(E32,[1]明细表!$H:$V,15,FALSE)","v":"查漏补缺"},"残疾",2,"维修","自建",29500,"135497***272","丁志云","430981****12252118","810155****9838371"]
[31,"草尾镇","熙福村","许梦交","432302****12292510","C级",{"$f":"VLOOKUP(E33,[1]明细表!$H:$V,15,FALSE)","v":"查漏补缺"},"建档立卡贫困户",3,"维修","自建",18000,"134694***224","许梦交","432302****12292510","810155****9868838"]
[32,"草尾镇","熙和村","姚菊香","432302****09282720","D级",{"$f":"VLOOKUP(E34,[1]明细表!$H:$V,15,FALSE)","v":"查漏补缺"},"五保",1,"新建","自建",30000,"182737***686","姚菊香","432302****09282720","810155****9361668"]
[33,"草尾镇","长乐村","刘固良","432302****03142112","C级",{"$f":"VLOOKUP(E35,[1]明细表!$H:$V,15,FALSE)","v":"查漏补缺"},"建档立卡贫困户",2,"维修","代建",18000,"191179***265","胡冬生","432302****11212130","810155****9728404"]
[34,"草尾镇","长乐村","张翠娥","432302****07042127","C级",{"$f":"VLOOKUP(E36,[1]明细表!$H:$V,15,FALSE)","v":"查漏补缺"},"残疾",2,"维修","自建",29000,"138743***206","张翠娥","432302****07042127","810155****2490144"]
[35,"草尾镇","胜天村","程建辉","432302****07151910","C级",{"$f":"VLOOKUP(E37,[1]明细表!$H:$V,15,FALSE)","v":"5批外遗留"},"建档立卡贫困户",1,"维修","代建",26500,"180737***152","康亮","432302****08241915","810155****9229620"]
[36,"草尾镇","和平村","李新华","430981****11251870","C级",{"$f":"VLOOKUP(E38,[1]明细表!$H:$V,15,FALSE)","v":"5批外遗留"},"建档立卡贫困户",5,"维修","自建",23000,"181693***087","李云辉","432302****11061914","810155****9217309"]
[37,"草尾镇","和平村","陈秀珍","432302****08221928","C级",{"$f":"VLOOKUP(E39,[1]明细表!$H:$V,15,FALSE)","v":"现场增补"},"建档立卡贫困户",1,"维修","自建",22000,"135111***508","陈秀珍","432302****08221928","810155****4227240"]
[38,"草尾镇","熙福村","周国平","432302****07232517","C级",{"$f":"VLOOKUP(E40,[1]明细表!$H:$V,15,FALSE)","v":"现场增补"},"五保",1,"维修","自建",16000,"137867***096","周国平","432302****07232517","810155****9357834"]
[39,"草尾镇","大福村","许远良","432302****10162154","C级",{"$f":"VLOOKUP(E41,[1]明细表!$H:$V,15,FALSE)","v":"放弃后增补"},"建档立卡贫困户",1,"维修","自建",29000,"199767***198","许远良","432302****10162154","810155****1025829"]
[40,"草尾镇","东红村","杨学军","432302****05082318","C级",{"$f":"VLOOKUP(E42,[1]明细表!$H:$V,15,FALSE)","v":"放弃后增补"},"建档立卡贫困户",3,"维修","自建",24500,"173737***386","杨学军","432302****05082318","810155****1019065"]
[41,"草尾镇","和平村","宋天虎","430981****03011817","D级","放弃后增补","残疾",1,"新建","自建",34000,"199367***890","宋天虎","430981****03011817","810155****7271760"]
[42,"草尾镇","三码头村","张中明","432302****12012517","C级",{"$f":"VLOOKUP(E44,[1]明细表!$H:$V,15,FALSE)","v":"放弃后增补"},"建档立卡贫困户",4,"维修","自建",30000,"187117***044","张中明","432302****12012517","810155****9336518"]
[43,"共华镇","八形汊村委会","周训钦","432302****11137718","D级",{"$f":"VLOOKUP(E45,[1]明细表!$H:$V,15,FALSE)","v":"查漏补缺"},"已脱贫（享受政策）2019年度/农村低保/肢体二级",3,"维修","自建",20000,"155800***581","周训钦","432302****11137718","810155****2297574"]
[44,"共华镇","八形汊村委会","王卫泉","432302****1105771X","无房户",{"$f":"VLOOKUP(E46,[1]明细表!$H:$V,15,FALSE)","v":"查漏补缺"},"农村分散供养特困人员",2,"新建","自建",29000,"183737***149","王卫泉","432302****1105771x","810155****2173137"]
[45,"共华镇","八形汊村委会","王明强","432302****10307712","无房户",{"$f":"VLOOKUP(E47,[1]明细表!$H:$V,15,FALSE)","v":"查漏补缺"},"农村分散供养特困人员",1,"新建","自建",34000,"181737***800","王明强","432302****10307712","810155****2212205"]
[46,"共华镇","八形汊村委会","郭爱保","432302****11027715","无房户",{"$f":"VLOOKUP(E48,[1]明细表!$H:$V,15,FALSE)","v":"放弃后增补"},"农村分散供养特困人员",2,"新建","自建",33000,"152747***853","郭爱保","432302****11027715","810155****2218161"]
[47,"共华镇","白沙洲村委会","赵定太","432302****10027913","C级",{"$f":"VLOOKUP(E49,[1]明细表!$H:$V,15,FALSE)","v":"查漏补缺"},"已脱贫（享受政策）2014年底/农村分散供养特困人员",2,"维修","自建",23000,"191179***722","聂爱珍","432302****02257924","810155****2345687"]
[48,"共华镇","白沙洲村委会","孙淑兰","430981****02197728","无房户",{"$f":"VLOOKUP(E50,[1]明细表!$H:$V,15,FALSE)","v":"查漏补缺"},"农村低保",2,"新建","代建",35000,"158697***342","廖建波","432302****01297719","810155****2288650"]
[49,"共华镇","东合村委会","郭跃飞","432302****06197310","D级",{"$f":"VLOOKUP(E51,[1]明细表!$H:$V,15,FALSE)","v":"动态新增"},"农村低保",2,"原址翻建","自建",30000,"152737***727","郭跃飞","432302****06197310","810155****2247103"]
[50,"共华镇","东合村委会","欧艳飞","432302****07077347","C级",{"$f":"VLOOKUP(E52,[1]明细表!$H:$V,15,FALSE)","v":"查漏补缺"},"贫困残疾人家庭",1,"维修","自建",23000,"131350***717","欧艳飞","432302****07077347","623090****067567620"]
[51,"共华镇","蒿竹湖村委会","李合英","432302****01067921","C级",{"$f":"VLOOKUP(E53,[1]明细表!$H:$V,15,FALSE)","v":"动态新增"},"农村低保",2,"维修","自建",19000,"183737***549","李合英","432302****01067921","810155****0284771"]
[52,"共华镇","蒿竹湖村委会","谢长庚","432302****04017912","C级",{"$f":"VLOOKUP(E54,[1]明细表!$H:$V,15,FALSE)","v":"动态新增"},"农村低保",1,"维修","自建",18000,"155762***050","谢长庚","432302****04017912","810155****2084666"]
[53,"共华镇","蒿竹湖村委会","杨久云","432302****12097910","C级",{"$f":"VLOOKUP(E55,[1]明细表!$H:$V,15,FALSE)","v":"查漏补缺"},"农村分散供养特困人员",1,"维修","自建",19000,"151167***694","杨久云","432302****12097910","810155****2176116"]
[54,"共华镇","蒿竹湖村委会","陈德保","432302****11247916","C级",{"$f":"VLOOKUP(E56,[1]明细表!$H:$V,15,FALSE)","v":"查漏补缺"},"农村分散供养特困人员",2,"维修","自建",22000,"177737***511","陈德保","432302****11247916","810155****1158677"]
[55,"共华镇","蒿竹湖村委会","李金连","432302****11277948","D级",{"$f":"VLOOKUP(E57,[1]明细表!$H:$V,15,FALSE)","v":"放弃后增补"},"农村分散供养特困人员",1,"维修","自建",24000,"186737***161","李金连","432302****11277948","810155****2170318"]
[56,"共华镇","和裕村委会","周正年","432302****1230751X","C级",{"$f":"VLOOKUP(E58,[1]明细表!$H:$V,15,FALSE)","v":"放弃后增补"},"已脱贫（享受政策）2014年底",3,"维修","自建",20000,"182737***061","周正年","432302****1230751x","810155****2372858"]
[57,"共华镇","华兴村委会","孙炼媛","430981****1226722X","C级",{"$f":"VLOOKUP(E59,[1]明细表!$H:$V,15,FALSE)","v":"动态新增"},"农村低保",3,"维修","自建",21000,"135497***932","孙炼媛","430981****1226722X","810155****5053644"]
[58,"共华镇","华兴村委会","李光照","432302****0908795X","无房户",{"$f":"VLOOKUP(E60,[1]明细表!$H:$V,15,FALSE)","v":"动态新增"},"农村低保",1,"新建","自建",28000,"138753***331","李光照","432302****0908795X","810155****2266103"]
[59,"共华镇","华兴村委会","王正凡","432302****10067918","C级",{"$f":"VLOOKUP(E61,[1]明细表!$H:$V,15,FALSE)","v":"查漏补缺"},"农村分散供养特困人员",2,"维修","自建",22000,"186927***885","王正凡","432302****10067918","810155****2064515"]
[60,"共华镇","华兴村委会","杨新明","432302****03197959","C级",{"$f":"VLOOKUP(E62,[1]明细表!$H:$V,15,FALSE)","v":"现场增补"},"农村分散供养特困人员/精神二级",1,"维修","自建",21000,"133975***705","杨新明","432302****03197959","810155****2177358"]
[61,"共华镇","明月村委会","郭上宾","432302****01067730","C级",{"$f":"VLOOKUP(E63,[1]明细表!$H:$V,15,FALSE)","v":"乡镇申报已鉴定"},"已脱贫（享受政策）2018年度/农村低保",4,"维修","自建",21000,"177737***078","郭上宾","432302****01067730","810155****2191667"]
[62,"共华镇","明月村委会","王秋良","430981****07117719","C级",{"$f":"VLOOKUP(E64,[1]明细表!$H:$V,15,FALSE)","v":"乡镇申报已鉴定"},"农村分散供养特困人员",1,"维修","自建",23000,"131072***256","王秋良","430981****07117719","810155****2295339"]
[63,"共华镇","明月村委会","邓梦良","430981****09037230","C级","乡镇申报已鉴定","未脱贫/农村低保/肢体一级",3,"维修","自建",22000,"134873***701","邓梦良","430981****09037230","810155****0991258"]
[64,"共华镇","仁安村委会","秦谷香","430981****02207728","C级",{"$f":"VLOOKUP(E66,[1]明细表!$H:$V,15,FALSE)","v":"查漏补缺"},"已脱贫（享受政策）2014年底",2,"维修","自建",20000,"137867***274","何友才","432302****12097714","810155****2296922"]
[65,"共华镇","双阜村委会","刘艳","430981****09297221","C级",{"$f":"VLOOKUP(E67,[1]明细表!$H:$V,15,FALSE)","v":"动态新增"},"农村低保",3,"维修","自建",26000,"135497***728","肖辉","430981****08047518","810155****9650468"]
[66,"共华镇","双阜村委会","邓学森","430981****10257515","C级",{"$f":"VLOOKUP(E68,[1]明细表!$H:$V,15,FALSE)","v":"动态新增"},"农村低保",3,"维修","自建",22000,"186849***345","邓学森","430981****10257515","810155****2415307"]
[67,"共华镇","双阜村委会","何志华","432302****08047515","C级",{"$f":"VLOOKUP(E69,[1]明细表!$H:$V,15,FALSE)","v":"动态新增"},"农村低保",2,"维修","自建",22000,"183975***216","何志华","432302****08047515","810155****2363162"]
[68,"共华镇","双阜村委会","张实明","432302****03097517","C级",{"$f":"VLOOKUP(E70,[1]明细表!$H:$V,15,FALSE)","v":"动态新增"},"农村分散供养特困人员",2,"维修","自建",22000,"135497***208","张实明","432302****03097517","810155****6447405"]
[69,"共华镇","团湖洲村委会","姚国民","432302****10047316","C级",{"$f":"VLOOKUP(E71,[1]明细表!$H:$V,15,FALSE)","v":"现场增补"},"农村分散供养特困人员",1,"维修","自建",26000,"155263***452","姚国民","432302****10047316","810155****2058998"]
[70,"共华镇","宪成垸村委会","皮十点","432302****01057734","D级",{"$f":"VLOOKUP(E72,[1]明细表!$H:$V,15,FALSE)","v":"动态新增"},"农村分散供养特困人员",1,"原址翻建","自建",28000,"151167***638","皮十点","432302****01057734","810155****2285819"]
[71,"共华镇","宪成垸村委会","杨永军","432302****10167714","D级",{"$f":"VLOOKUP(E73,[1]明细表!$H:$V,15,FALSE)","v":"动态新增"},"农村低保",3,"原址翻建","代建",30000,"151167***638","刘哲云","432302****10127730","810155****2309987"]
[72,"共华镇","宪成垸村委会","郭海军","432302****06297715","D级",{"$f":"VLOOKUP(E74,[1]明细表!$H:$V,15,FALSE)","v":"5批外遗留"},"贫困残疾人家庭",2,"原址翻建","自建",32000,"151167***638","郭海军","432302****06297715","810155****2095420"]
[73,"共华镇","新港村委会","周正芳","432302****05248009","C级",{"$f":"VLOOKUP(E75,[1]明细表!$H:$V,15,FALSE)","v":"动态新增"},"农村低保",3,"维修","自建",21500,"199737***310","周正芳","432302****05248009","810155****4491014"]
[74,"共华镇","紫红洲村委会","蔡芳球","432302****01037513","D级",{"$f":"VLOOKUP(E76,[1]明细表!$H:$V,15,FALSE)","v":"5批外遗留"},"已脱贫（享受政策）2018年度",1,"维修","代建",30000,"137874***948","曹学云","432302****08067518","810155****2361507"]
[75,"共华镇","紫红洲村委会","曹乐云","432302****02047553","C级",{"$f":"VLOOKUP(E77,[1]明细表!$H:$V,15,FALSE)","v":"乡镇申报已鉴定"},"农村分散供养特困人员",1,"维修","代建",22000,"137874***948","曹学云","432302****08067518","810155****2361507"]
[76,"黄茅洲镇","黄栗塘村","祝文志","430981****09273019","无房户",{"$f":"VLOOKUP(E78,[1]明细表!$H:$V,15,FALSE)","v":"动态新增"},"农村分散供养特困人员",1,"新建","统建",24000,"135747***415","叶伯兵","432302****12153714","810155****0705824"]
[77,"黄茅洲镇","黄栗塘村","廖建兵","432302****09233715","无房户",{"$f":"VLOOKUP(E79,[1]明细表!$H:$V,15,FALSE)","v":"动态新增"},"农村分散供养特困人员",1,"新建","统建",24000,"135747***415","叶伯兵","432302****12153714","810155****0705824"]
[78,"黄茅洲镇","柳树坪村","刘罗生","432302****12033310","无房户",{"$f":"VLOOKUP(E80,[1]明细表!$H:$V,15,FALSE)","v":"动态新增"},"农村低保",3,"新建","自建",23000,"186927***636","刘罗生","432302****12033310","810155****8022352"]
[79,"黄茅洲镇","民心村","万庆华","430981****09013039","C级",{"$f":"VLOOKUP(E81,[1]明细表!$H:$V,15,FALSE)","v":"动态新增"},"农村低保",4,"维修","自建",23000,"199749***013","万善云","432302****07133010","810155****0671247","其父"]
[80,"黄茅洲镇","肖家坝村","周少成","432302****01023518","C级",{"$f":"VLOOKUP(E82,[1]明细表!$H:$V,15,FALSE)","v":"查漏补缺"},"建档立卡+残疾",2,"维修","自建",28000,"156737***778","周少成","432302****01023518","810155****0738497"]
[81,"黄茅洲镇","肖家坝村委会","朱若夫","432302****09203511","无房户",{"$f":"VLOOKUP(E83,[1]明细表!$H:$V,15,FALSE)","v":"查漏补缺"},"贫困残疾人家庭",1,"新建","自建",28000,"188905***900","朱若夫","432302****09203511","810155****0694968"]
[82,"黄茅洲镇","新河口村","易己红","432302****01083728","C级",{"$f":"VLOOKUP(E84,[1]明细表!$H:$V,15,FALSE)","v":"动态新增"},"贫困残疾人家庭",3,"维修","自建",23000,"182737***765","易己红","432302****01083728","810155****1488180","己ji"]
[83,"黄茅洲镇","新河口村","唐国安","432302****03203718","C级",{"$f":"VLOOKUP(E85,[1]明细表!$H:$V,15,FALSE)","v":"动态新增"},"贫困残疾人家庭",2,"维修","自建",22000,"132986***314","唐国安","432302****03203718","810155****0770190"]
[84,"黄茅洲镇","新河口村","楚桂先","432302****05223712","C级",{"$f":"VLOOKUP(E86,[1]明细表!$H:$V,15,FALSE)","v":"动态新增"},"贫困残疾人家庭",2,"维修","自建",22000,"188905***100","楚桂先","432302****05223712","810155****0692609"]
[85,"黄茅洲镇","志成垸村","李伏保","432302****06093715","C级",{"$f":"VLOOKUP(E87,[1]明细表!$H:$V,15,FALSE)","v":"动态新增"},"贫困残疾人家庭",1,"维修","代建",26500,"151167***754","王自良","432302****08233714","810155****0747934"]
[86,"黄茅洲镇","子母城村","罗求生","430981****12068353","无房户",{"$f":"VLOOKUP(E88,[1]明细表!$H:$V,15,FALSE)","v":"动态新增"},"边缘户",1,"维修","自建",28000,"156168***877","罗求德","432302****12263014","810155****0625597","(弟弟）"]
[87,"黄茅洲镇","子母城村","郭卫民","432302****05103010","C级",{"$f":"VLOOKUP(E89,[1]明细表!$H:$V,15,FALSE)","v":"动态新增"},"农村低保",1,"维修","自建",20000,"135497***892","郭卫民","432302****05103010","810155****0559826"]
[88,"黄茅洲镇","子母城村","黄玉春","430981****01013014","C级",{"$f":"VLOOKUP(E90,[1]明细表!$H:$V,15,FALSE)","v":"查漏补缺"},"农村分散供养特困人员",1,"维修","自建",27000,"187744***108","黄玉春","430981****01013014","810155****0569379"]
[89,"黄茅洲镇","子母城村","祝勋功","432302****02103013","C级",{"$f":"VLOOKUP(E91,[1]明细表!$H:$V,15,FALSE)","v":"查漏补缺"},"农村分散供养特困人员",1,"维修","自建",25000,"182737***927","祝勋功","432302****02103013","810155****0518212"]
[90,"黄茅洲镇","金华垸村","李新民","432302****08283515","C级",{"$f":"VLOOKUP(E92,[1]明细表!$H:$V,15,FALSE)","v":"现场增补"},"残疾人",2,"维修","自建",20000,"183904***383","李新民","432302****08283515","810155****0721347"]
[91,"黄茅洲镇","金华垸村委会","武光照","432302****1228351X","C级",{"$f":"VLOOKUP(E93,[1]明细表!$H:$V,15,FALSE)","v":"现场增补"},"农村分散供养特困人员",1,"维修","自建",18000,"130551***981","武光照","432302****1228351X","810155****0549422"]
[92,"黄茅洲镇","金华垸村委会","谢海清","432302****10083517","D级",{"$f":"VLOOKUP(E94,[1]明细表!$H:$V,15,FALSE)","v":"现场增补"},"农村分散供养特困人员",1,"维修","自建",30000,"137627***855","谢海清","432302****10083517","810155****0699966"]
[93,"黄茅洲镇","黄栗塘村","郑桂元","432302****08023725","D级",{"$f":"VLOOKUP(E95,[1]明细表!$H:$V,15,FALSE)","v":"放弃后增补"},"贫困残疾人家庭",1,"维修","代建",28500,"135747***415","叶伯兵","432302****12153714","810155****0705824"]
[94,"黄茅洲镇","黄茂州村","易清明","432302****02022919","C级",{"$f":"VLOOKUP(E96,[1]明细表!$H:$V,15,FALSE)","v":"放弃后增补"},"农村分散供养特困人员",1,"维修","自建",24000,"182305***535","易清明","432302****02022919","810155****0475210"]
[95,"黄茅洲镇","子母城村","钟跃辉","432302****0427301X","C级",{"$f":"VLOOKUP(E97,[1]明细表!$H:$V,15,FALSE)","v":"放弃后增补"},"建档立卡（2017）",3,"维修","自建",26000,"138737***812","钟跃辉","432302****0427301X","810155****0627617"]
[96,"漉湖","渔业管区","殷平波","432302****11065016","C级",{"$f":"VLOOKUP(E98,[1]明细表!$H:$V,15,FALSE)","v":"动态新增"},"农村低保",4,"修缮加固","自建",29000,"132888***853","殷平波","432302****11065016","810155****0953617"]
[97,"漉湖","屈家潭管区","钟友良","432302****04095011","C级",{"$f":"VLOOKUP(E99,[1]明细表!$H:$V,15,FALSE)","v":"动态新增"},"农村低保",4,"修缮加固","自建",20000,"139737***430","钟友良","432302****04095011","810155****0933419"]
[98,"南大膳镇","东堤村","刘文春","432302****03074539","C级",{"$f":"VLOOKUP(E100,[1]明细表!$H:$V,15,FALSE)","v":"动态新增"},"五保户",1,"维修","自建",23000,"139737***652","刘文春","432302****03074539","810155****0918797"]
[99,"南大膳镇","东堤村","张应泉","432302****01144518","无房户",{"$f":"VLOOKUP(E101,[1]明细表!$H:$V,15,FALSE)","v":"现场增补"},"低保户",1,"新建","自建",35000,"150737***924","张应泉","432302****01144518","623090****021080348"]
[100,"南大膳镇","华丰垸村","李世宏","430981****06094651","C级",{"$f":"VLOOKUP(E102,[1]明细表!$H:$V,15,FALSE)","v":"动态新增"},"低保户",5,"维修","自建",25000,"183073***668","李世宏","430981****06094651","810155****1653714"]
[101,"南大膳镇","华丰垸村","韩波","430981****09134618","D级","动态新增","贫困残疾家庭",5,"新建","自建",40000,"185737***294","韩波","430981****09134618","810155****0917851","女儿韩露，精神残疾"]
[102,"南大膳镇","华丰垸村","李正康","432302****05244313","C级",{"$f":"VLOOKUP(E104,[1]明细表!$H:$V,15,FALSE)","v":"动态新增"},"五保户",2,"维修","自建",22000,"139737***361","李正康","432302****05244313","810155****1182825"]
[103,"南大膳镇","华胜村","楚凯南","432302****10124310","C级",{"$f":"VLOOKUP(E105,[1]明细表!$H:$V,15,FALSE)","v":"动态新增"},"贫困残疾家庭",2,"维修","自建",20000,"131350***540","楚凯南","432302****10124310","810155****1183089"]
[104,"南大膳镇","华胜村","龙群辉","432302****04044325","D级",{"$f":"VLOOKUP(E106,[1]明细表!$H:$V,15,FALSE)","v":"动态新增"},"贫困残疾家庭",1,"新建","自建",35000,"158026***515","龙群辉","432302****04044325","810155****3135975"]
[105,"南大膳镇","华胜村","宋定坤","432302****0713431X","C级",{"$f":"VLOOKUP(E107,[1]明细表!$H:$V,15,FALSE)","v":"查漏补缺"},"已脱贫（享受政策）2019年度",1,"维修","代建",20000,"136802***460","刘培术","432302****02284311","810155****1186447","施工方"]
[106,"南大膳镇","灵官嘴村","谭杰","430981****08294630","C级",{"$f":"VLOOKUP(E108,[1]明细表!$H:$V,15,FALSE)","v":"动态新增"},"贫困残疾家庭",4,"维修","自建",20000,"185694***497","谭文华","432302****12124312","810155****1221107"]
[107,"南大膳镇","灵官嘴村","柳礼芳","432302****0818431X","C级",{"$f":"VLOOKUP(E109,[1]明细表!$H:$V,15,FALSE)","v":"动态新增"},"低保户",1,"维修","代建",24000,"187117***387","李桂生","432302****08244710","810155****1106456","施工方"]
[108,"南大膳镇","灵官嘴村","罗谷献","432302****06014314","C级",{"$f":"VLOOKUP(E110,[1]明细表!$H:$V,15,FALSE)","v":"动态新增"},"低保户",1,"维修","自建",20000,"138731***363","罗谷献","432302****06014314","810155****4738202"]
[109,"南大膳镇","灵官嘴村","罗文献","432302****11164318","C级",{"$f":"VLOOKUP(E111,[1]明细表!$H:$V,15,FALSE)","v":"查漏补缺"},"已脱贫（享受政策）2017年底",3,"维修","自建",22000,"183742***156","罗谷献","432302****06014314","810155****4738202","其弟"]
[110,"南大膳镇","南大河村","陈金秋","432302****09214018","C级",{"$f":"VLOOKUP(E112,[1]明细表!$H:$V,15,FALSE)","v":"动态新增"},"低保户",2,"维修","代建",22000,"137867***192","李桂生","432302****08244710","810155****1106456","施工方"]
[111,"南大膳镇","南大河村","盛细蓉","432302****01234028","C级",{"$f":"VLOOKUP(E113,[1]明细表!$H:$V,15,FALSE)","v":"动态新增"},"贫困残疾家庭",2,"维修","自建",24000,"151167***047","毛长生","432302****11174013","810155****0833233","其夫"]
[112,"南大膳镇","南大渔村","陈加亮","432302****01294719","C级",{"$f":"VLOOKUP(E114,[1]明细表!$H:$V,15,FALSE)","v":"动态新增"},"五保户",1,"维修","自建",20000,"150737***962","陈加亮","432302****01294719","810155****0977661"]
[113,"南大膳镇","南丰垸村","冯正山","432302****01134013","C级",{"$f":"VLOOKUP(E115,[1]明细表!$H:$V,15,FALSE)","v":"动态新增"},"贫困残疾家庭",5,"维修","自建",24000,"136574***925","冯正山","432302****01134013","810155****0874940"]
[114,"南大膳镇","南渔口村","周永兴","432302****04044714","C级",{"$f":"VLOOKUP(E116,[1]明细表!$H:$V,15,FALSE)","v":"动态新增"},"低保户",2,"维修","自建",20000,"178737***590","周永兴","432302****04044714","810155****1132498"]
[115,"南大膳镇","南渔口村","欧顺球","430981****06304310","C级",{"$f":"VLOOKUP(E117,[1]明细表!$H:$V,15,FALSE)","v":"查漏补缺"},"已脱贫（享受政策）2016年底",2,"维修","自建",24000,"153677***182","欧顺球","430981****06304310","810155****1106412"]
[116,"南大膳镇","南渔口村","郭阳青","430981****10103910","C级",{"$f":"VLOOKUP(E118,[1]明细表!$H:$V,15,FALSE)","v":"查漏补缺"},"已脱贫（享受政策）2016年底",1,"维修","自建",20000,"184737***544","郭阳青","430981****10103910","810155****0982548"]
[117,"南大膳镇","南渔口村","邱中科","432302****0129471X","C级",{"$f":"VLOOKUP(E119,[1]明细表!$H:$V,15,FALSE)","v":"查漏补缺"},"五保户",1,"维修","自建",18000,"155768***841","邱中科","432302****0129471X","810155****1097508"]
[118,"南大膳镇","南渔口村","黄飞强","432302****01044337","C级","放弃后增补","已脱贫（享受政策）2018年度",6,"维修","自建",24000,"132373***872","黄飞强","432302****01044337","810155****1099797"]
[119,"南大膳镇","南渔口村","曹菊连","432302****03184723","C级",{"$f":"VLOOKUP(E121,[1]明细表!$H:$V,15,FALSE)","v":"5批外遗留"},"贫困残疾家庭",3,"维修","自建",24000,"135282***145","朱卫斌","432302****05274719","810155****1120493","其夫"]
[120,"南大膳镇","牛洲村","李献群","430981****0321392X","C级",{"$f":"VLOOKUP(E122,[1]明细表!$H:$V,15,FALSE)","v":"动态新增"},"低保户",2,"维修","自建",24000,"187117***671","李献群","430981****0321392X","810155****0906247"]
[121,"南大膳镇","三新村","王春明","432302****01124510","C级",{"$f":"VLOOKUP(E123,[1]明细表!$H:$V,15,FALSE)","v":"动态新增"},"五保户",2,"维修","代建",24000,"165173***357","王抗","432302****02234512","810155****1205129","施工方"]
[122,"南大膳镇","三新村","莫建坤","432302****04084511","D级",{"$f":"VLOOKUP(E124,[1]明细表!$H:$V,15,FALSE)","v":"动态新增"},"五保户",1,"新建","自建",35000,"137249***459","莫建坤","432302****04084511","623090****023506175"]
[123,"南大膳镇","双螺村","赵德保","432302****08184710","C级",{"$f":"VLOOKUP(E125,[1]明细表!$H:$V,15,FALSE)","v":"动态新增"},"贫困残疾家庭",2,"维修","自建",24000,"136573***399","赵德保","432302****08184710","810155****1122989"]
[124,"南大膳镇","同丰垸村","张子兴","432302****0805431X","D级",{"$f":"VLOOKUP(E126,[1]明细表!$H:$V,15,FALSE)","v":"动态新增"},"五保户",1,"新建","自建",35000,"186927***182","张子兴","432302****0805431X","810155****1206597"]
[125,"南大膳镇","同丰垸村","谢保安","430981****03244612","C级",{"$f":"VLOOKUP(E127,[1]明细表!$H:$V,15,FALSE)","v":"放弃后增补"},"低保户",2,"维修","自建",22000,"180737***880","谢保安","430981****03244612","810155****1190664"]
[126,"南大膳镇","西福垸村","李红","430981****02113922","C级",{"$f":"VLOOKUP(E128,[1]明细表!$H:$V,15,FALSE)","v":"动态新增"},"低保户",2,"维修","自建",25000,"138753***226","李红","430981****02113922","623090****067602062"]
[127,"南大膳镇","西福垸村","李翠英","432302****12064029","C级",{"$f":"VLOOKUP(E129,[1]明细表!$H:$V,15,FALSE)","v":"动态新增"},"贫困残疾家庭",2,"维修","自建",22000,"183975***544","李翠英","432302****12064029","810155****9418672"]
[128,"南大膳镇","西福垸村","张美英","432302****10124043","C级",{"$f":"VLOOKUP(E130,[1]明细表!$H:$V,15,FALSE)","v":"查漏补缺"},"已脱贫（享受政策）2018年度",2,"维修","自建",22000,"182305***844","沈舜","432302****1002403X","810155****1043507","其子"]
[129,"南大膳镇","西福垸村","沈国良","432302****11114094","C级",{"$f":"VLOOKUP(E131,[1]明细表!$H:$V,15,FALSE)","v":"查漏补缺"},"已脱贫（享受政策）2018年度",4,"维修","自建",22000,"158073***959","沈国良","432302****11114094","810155****0848445"]
[130,"南大膳镇","西福垸村","曾志云","432302****05184029","C级",{"$f":"VLOOKUP(E132,[1]明细表!$H:$V,15,FALSE)","v":"查漏补缺"},"五保户",2,"维修","自建",20000,"135747***225","曾志云","432302****05184029","810155****0995579"]
[131,"南大膳镇","小康村","张几元","432302****11154537","C级",{"$f":"VLOOKUP(E133,[1]明细表!$H:$V,15,FALSE)","v":"动态新增"},"贫困残疾家庭",5,"维修","自建",21500,"151737***084","张几元","432302****11154537","810155****1195017"]
[132,"南大膳镇","小康村","张树林","432302****10114554","D级",{"$f":"VLOOKUP(E134,[1]明细表!$H:$V,15,FALSE)","v":"动态新增"},"低保户",2,"新建","代建",40000,"159730***492","韩友根","432302****05074514","810155****1215988","施工方"]
[133,"南大膳镇","小康村","张文初","432302****03254511","C级",{"$f":"VLOOKUP(E135,[1]明细表!$H:$V,15,FALSE)","v":"动态新增"},"低保户",2,"维修","自建",22000,"182148***868","张文初","432302****03254511","810155****0829123"]
[134,"南大膳镇","义南村","吴阳春","432302****10264080","C级",{"$f":"VLOOKUP(E136,[1]明细表!$H:$V,15,FALSE)","v":"查漏补缺"},"已脱贫（享受政策）2018年度",2,"维修","自建",22000,"180737***890","刘正良","432302****08304050","810155****0821818"]
[135,"南洞庭","大码头村","彭伟祥","430981****06188213","c",{"$f":"VLOOKUP(E137,[1]明细表!$H:$V,15,FALSE)","v":"动态新增"},"残疾",3,"加固维修","自建",23000,"184737***741","彭建国","432302****08108119","810155****2507242","爷爷"]
[136,"南洞庭","大码头村","彭立军","432302****08118126","c",{"$f":"VLOOKUP(E138,[1]明细表!$H:$V,15,FALSE)","v":"动态新增"},"低保",1,"加固维修","自建",23000,"191737***663","彭立军","432302****08118126","810155****6597367","本人"]
[137,"南洞庭","大码头村","魏佳乐","430981****11088239","c",{"$f":"VLOOKUP(E139,[1]明细表!$H:$V,15,FALSE)","v":"扶贫办移送"},"脱贫户",3,"加固维修","自建",29500,"152737***498","魏佳乐","430981****11088239","810155****7578378","本人"]
[138,"南洞庭","东头嘴管区","阮中生","432302****01068111","c",{"$f":"VLOOKUP(E140,[1]明细表!$H:$V,15,FALSE)","v":"动态新增"},"残疾",1,"加固维修","自建",22500,"135084***624","阮建科","432302****11298117","810155****2481336","儿子"]
[139,"南嘴镇","南嘴村","周艳芳","430981****12236348","C",{"$f":"VLOOKUP(E141,[1]明细表!$H:$V,15,FALSE)","v":"查漏补缺"},"建档贫困户",null,"维修","自建",30000,"182305***709","周艳芳","430981****12236348","810155****9060637"]
[140,"南嘴镇","目南村","刘少湘","432302****08096516","C",{"$f":"VLOOKUP(E142,[1]明细表!$H:$V,15,FALSE)","v":"查漏补缺"},"建档贫困户",null,"维修","自建",18000,"147891***197","刘少湘","432302****08096516","810155****9035656"]
[141,"南嘴镇","百家沟村","罗正勇","430981****05086332","C","查漏补缺","残疾贫困户",null,"维修","自建",30000,"135486***886","罗正勇","430981****05086332","810155****9099745","罗晨淅之父亲"]
[142,"南嘴镇","百家沟村","王礼球","432302****07256211","C",{"$f":"VLOOKUP(E144,[1]明细表!$H:$V,15,FALSE)","v":"查漏补缺"},"特困供养户",null,"维修","自建",20000,"151977***816","王礼球","432302****07256211","810155****9098640"]
[143,"四季红","四季红村委会","张应来","430981****07115430","无房户",{"$f":"VLOOKUP(E145,[1]明细表!$H:$V,15,FALSE)","v":"放弃后增补"},"农村分散供养五保户",1,"新建","自建",30000,"138753***015","张应来","430981****07115430","810155****6410076"]
[144,"四季红","安心村委会","陈珊虹","430981****10065428","C级",{"$f":"VLOOKUP(E146,[1]明细表!$H:$V,15,FALSE)","v":"放弃后增补"},"农村低保",2,"维修","自建",19000,"181737***151","夏崔平","430981****08125431","810155****0343341"]
[145,"泗湖山镇","北港村","陈尚元","432302****09098516","C级",{"$f":"VLOOKUP(E147,[1]明细表!$H:$V,15,FALSE)","v":"查漏补缺"},"农村分散供养特困人员",1,"修缮加固","自建",24000,"135173***078","曾新成","432302****06068517","810155****1563446","施工方"]
[146,"泗湖山镇","北港村","李爱连","430981****03148326","C级",{"$f":"VLOOKUP(E148,[1]明细表!$H:$V,15,FALSE)","v":"动态新增"},"农村低保",1,"修缮加固","自建",22000,"184737***845","李爱连","430981****03148326","810155****1726470"]
[147,"泗湖山镇","北港村","孙少华","432302****11228511","C级",{"$f":"VLOOKUP(E149,[1]明细表!$H:$V,15,FALSE)","v":"动态新增"},"农村低保",1,"修缮加固","自建",19000,"130805***018","孙少华","432302****11228511","810155****1514727"]
[148,"泗湖山镇","北港村","曹金生","432302****02058519","C级",{"$f":"VLOOKUP(E150,[1]明细表!$H:$V,15,FALSE)","v":"放弃后增补"},"农村低保",2,"修缮加固","自建",27000,"152437***025","曹谷武","432302****06168514","810155****3232590","弟弟"]
[149,"泗湖山镇","东安垸村","刘伟","430981****07178388","无房户",{"$f":"VLOOKUP(E151,[1]明细表!$H:$V,15,FALSE)","v":"动态新增"},"农村低保",3,"新建","自建",28000,"138753***559","刘伟","430981****07178388","810155****6168281"]
[150,"泗湖山镇","东安垸村","汤正良","432302****1111837X","无房户",{"$f":"VLOOKUP(E152,[1]明细表!$H:$V,15,FALSE)","v":"动态新增"},"农村分散供养特困人员",1,"新建","自建",40000,"150807***423","易国军","432302****01078314","810155****1481166","施工方"]
[151,"泗湖山镇","东安垸村","郭强","432302****05108331","无房户",{"$f":"VLOOKUP(E153,[1]明细表!$H:$V,15,FALSE)","v":"动态新增"},"农村低保",1,"新建","自建",38000,"159737***946","易国军","432302****01078314","810155****1481166","施工方"]
[152,"泗湖山镇","东安垸村","胡菊秀","432302****08098325","C级",{"$f":"VLOOKUP(E154,[1]明细表!$H:$V,15,FALSE)","v":"动态新增"},"贫困残疾",1,"修缮加固","自建",28000,"158737***829","任志昌","432302****03068311","810155****0187158","儿子"]
[153,"泗湖山镇","东安垸村","王芳秀","432302****03108329","C级",{"$f":"VLOOKUP(E155,[1]明细表!$H:$V,15,FALSE)","v":"动态新增"},"贫困残疾",1,"修缮加固","自建",28000,"184737***001","王芳秀","432302****03108329","810155****1532554"]
[154,"泗湖山镇","东安垸村","张谷山","432302****07178317","C级",{"$f":"VLOOKUP(E156,[1]明细表!$H:$V,15,FALSE)","v":"现场增补"},"贫困残疾",2,"修缮加固","自建",27000,"182085***335","张谷山","432302****07178317","810155****1528526"]
[155,"泗湖山镇","东安垸村","朱菊香","432302****09208325","C级",{"$f":"VLOOKUP(E157,[1]明细表!$H:$V,15,FALSE)","v":"现场增补"},"建档立卡贫困户",1,"修缮加固","自建",25000,"132721***070","熊政平","432302****02058334","810155****1528774","施工方"]
[156,"泗湖山镇","东安垸村","汤志兵","432302****06108312","C级",{"$f":"VLOOKUP(E158,[1]明细表!$H:$V,15,FALSE)","v":"查漏补缺"},"农村分散供养特困人员",1,"修缮加固","自建",18000,"159737***184","汤志兵","432302****06108312","810155****1508225"]
[157,"泗湖山镇","东安垸村","龙志良","430981****12148316","C级",{"$f":"VLOOKUP(E159,[1]明细表!$H:$V,15,FALSE)","v":"动态新增"},"农村低保",3,"修缮加固","自建",24000,"152737***584","熊政平","432302****02058334","810155****1528774","施工方"]
[158,"泗湖山镇","东安垸村","徐学根","432302****01268311","C级",{"$f":"VLOOKUP(E160,[1]明细表!$H:$V,15,FALSE)","v":"动态新增"},"农村低保",2,"修缮加固","自建",24000,"181073***499","徐学根","432302****01268311","810155****1734913"]
[159,"泗湖山镇","东安垸村","王忠良","432302****01208313","C级",{"$f":"VLOOKUP(E161,[1]明细表!$H:$V,15,FALSE)","v":"动态新增"},"农村分散供养特困人员",2,"修缮加固","自建",16000,"155762***920","王忠良","432302****01208313","810155****1497541"]
[160,"泗湖山镇","东安垸村","王雪辉","432302****11178316","C级",{"$f":"VLOOKUP(E162,[1]明细表!$H:$V,15,FALSE)","v":"现场增补"},"建档立卡贫困户",1,"修缮加固","自建",26000,"184737***057","熊政平","432302****02058334","810155****1528774","施工方"]
[161,"泗湖山镇","东安垸村","郭庆辉","432302****08128313","C级",{"$f":"VLOOKUP(E163,[1]明细表!$H:$V,15,FALSE)","v":"放弃后增补"},"建档立卡贫困户",2,"修缮加固","自建",29000,"158984***233","郭庆辉","432302****08128313","810155****1464480"]
[162,"泗湖山镇","光复垸村","高伟","430981****06128372","无房户",{"$f":"VLOOKUP(E164,[1]明细表!$H:$V,15,FALSE)","v":"动态新增"},"农村低保",1,"新建","自建",40000,"158697***652","廖春辉","432302****02108531","810155****1538272","施工方"]
[163,"泗湖山镇","和平村","蔡跃飞","430981****01250016","无房户",{"$f":"VLOOKUP(E165,[1]明细表!$H:$V,15,FALSE)","v":"动态新增"},"农村分散供养特困人员",1,"新建","自建",40000,"135741***193","曾再满","430624****06240128","810155****1708613","施工方"]
[164,"泗湖山镇","和平村","侯勇军","432302****08188313","C级",{"$f":"VLOOKUP(E166,[1]明细表!$H:$V,15,FALSE)","v":"动态新增"},"农村低保",3,"修缮加固","自建",23000,"188737***655","侯勇军","432302****08188313","810155****1645025"]
[165,"泗湖山镇","和平村","吴爱珍","432302****02228328","C级",{"$f":"VLOOKUP(E167,[1]明细表!$H:$V,15,FALSE)","v":"查漏补缺"},"建档立卡贫困户",1,"修缮加固","自建",19000,"138737***532","吴爱珍","432302****02228328","810155****5184794"]
[166,"泗湖山镇","和平村","周汉文","432302****05198315","C级",{"$f":"VLOOKUP(E168,[1]明细表!$H:$V,15,FALSE)","v":"查漏补缺"},"建档立卡贫困户",1,"修缮加固","自建",28000,"177225***063","周汉文","432302****05198315","810155****1485853"]
[167,"泗湖山镇","和平村","李德怀","430981****01048314","C级",{"$f":"VLOOKUP(E169,[1]明细表!$H:$V,15,FALSE)","v":"5批外遗留"},"建档立卡贫困户",2,"修缮加固","自建",28000,"138730***592","李德怀","430981****01048314","810155****1507436"]
[168,"泗湖山镇","华星村","郑介进","432302****04248715","C级",{"$f":"VLOOKUP(E170,[1]明细表!$H:$V,15,FALSE)","v":"动态新增"},"农村分散供养特困人员",1,"修缮加固","自建",20000,"187117***289","郑介进","432302****04248715","810155****1558380"]
[169,"泗湖山镇","华星村","廖申元","432302****10168717","C级",{"$f":"VLOOKUP(E171,[1]明细表!$H:$V,15,FALSE)","v":"动态新增"},"农村低保",1,"修缮加固","自建",25000,"183975***221","汤宗云","432302****04088738","810155****1549057","施工方"]
[170,"泗湖山镇","华星村","刘小红","432302****03188761","C级",{"$f":"VLOOKUP(E172,[1]明细表!$H:$V,15,FALSE)","v":"动态新增"},"贫困残疾",1,"修缮加固","自建",20000,"151737***610","陈新花","432302****03218711","810155****1533647","丈夫"]
[171,"泗湖山镇","华星村","黄克华","432302****09098719","C级",{"$f":"VLOOKUP(E173,[1]明细表!$H:$V,15,FALSE)","v":"放弃后增补"},"农村分散供养特困人员",3,"修缮加固","自建",18000,"152437***846","黄克华","432302****09098719","810155****1545257"]
[172,"泗湖山镇","净下洲村","王湘澳","430981****11260033","C级",{"$f":"VLOOKUP(E174,[1]明细表!$H:$V,15,FALSE)","v":"查漏补缺"},"贫困残疾",3,"修缮加固","自建",25000,"159741***638","王建秋","432302****08208919","810155****6869914"]
[173,"泗湖山镇","净下洲村","吴建华","430981****06151125","C级",{"$f":"VLOOKUP(E175,[1]明细表!$H:$V,15,FALSE)","v":"查漏补缺"},"建档立卡贫困户",2,"修缮加固","自建",24000,"152747***727","李宪章","432302****02158918","810155****1970961","丈夫"]
[174,"泗湖山镇","净下洲村","周建军","432302****01048914","C级",{"$f":"VLOOKUP(E176,[1]明细表!$H:$V,15,FALSE)","v":"查漏补缺"},"建档立卡贫困户",3,"修缮加固","自建",25000,"134694***685","周建军","432302****01048914","810155****1976533"]
[175,"泗湖山镇","净下洲村","黄桂秋","432302****08188912","C级",{"$f":"VLOOKUP(E177,[1]明细表!$H:$V,15,FALSE)","v":"现场增补"},"建档立卡贫困户",2,"修缮加固","自建",15000,"191179***150","黄桂秋","432302****08188912","810155****1971852"]
[176,"泗湖山镇","净下洲村","陈佑方","432302****10028929","C级","现场增补","建档立卡贫困户",1,"修缮加固","自建",16000,"158984***143","钟翔龙","432302****04068915","810155****1978778"]
[177,"泗湖山镇","两鲜村","侯玲芝","430981****0812842X","C级",{"$f":"VLOOKUP(E179,[1]明细表!$H:$V,15,FALSE)","v":"动态新增"},"贫困残疾",3,"修缮加固","自建",20000,"187737***221","侯应科","432302****02128715","810155****1529891","施工方"]
[178,"泗湖山镇","两鲜村","余佑生","432302****08258714","C级",{"$f":"VLOOKUP(E180,[1]明细表!$H:$V,15,FALSE)","v":"动态新增"},"贫困残疾",1,"修缮加固","自建",23000,"187737***949","陈建波","432302****08158713","810155****1482295","施工方"]
[179,"泗湖山镇","两鲜村","曹灿恩","432302****10248718","C级",{"$f":"VLOOKUP(E181,[1]明细表!$H:$V,15,FALSE)","v":"动态新增"},"农村低保",2,"修缮加固","自建",20000,"158697***281","曹灿恩","432302****10248718","810155****1490090"]
[180,"泗湖山镇","南竹脑村","万桂云","432302****10098724","C级",{"$f":"VLOOKUP(E182,[1]明细表!$H:$V,15,FALSE)","v":"查漏补缺"},"农村低保",2,"修缮加固","自建",18000,"156974***396","万桂云","432302****10098724","810155****1565896"]
[181,"泗湖山镇","南竹脑村","李群强","432302****02188712","C级",{"$f":"VLOOKUP(E183,[1]明细表!$H:$V,15,FALSE)","v":"查漏补缺"},"农村低保",2,"修缮加固","自建",29000,"152437***874","李群强","432302****02188712","810155****1508995"]
[182,"泗湖山镇","南竹脑村","范海涛","430624****01207915","C级",{"$f":"VLOOKUP(E184,[1]明细表!$H:$V,15,FALSE)","v":"动态新增"},"农村分散供养特困人员",1,"修缮加固","自建",24000,"183904***305","范海涛","430624****01207915","870200****6984437011"]
[183,"泗湖山镇","坪塘岭村","王赛群","432302****08088546","无房户",{"$f":"VLOOKUP(E185,[1]明细表!$H:$V,15,FALSE)","v":"放弃后增补"},"贫困残疾",2,"新建","自建",40000,"181737***131","王赛群","432302****08088546","810155****1695655"]
[184,"泗湖山镇","坪塘岭村","王安民","432302****11208512","C级",{"$f":"VLOOKUP(E186,[1]明细表!$H:$V,15,FALSE)","v":"查漏补缺"},"贫困残疾",2,"修缮加固","自建",22000,"187737***992","王安民","432302****11208512","810155****1503577"]
[185,"泗湖山镇","坪塘岭村","吴景云","432302****06248517","C级",{"$f":"VLOOKUP(E187,[1]明细表!$H:$V,15,FALSE)","v":"查漏补缺"},"贫困残疾",1,"修缮加固","自建",25000,"138737***323","吴卫明","432302****05258515","810155****1536263","儿子"]
[186,"泗湖山镇","坪塘岭村","邓正春","432302****01038532","C级",{"$f":"VLOOKUP(E188,[1]明细表!$H:$V,15,FALSE)","v":"查漏补缺"},"贫困残疾",1,"修缮加固","自建",20000,"185705***684","邓正春","432302****01038532","810155****1491708"]
[187,"泗湖山镇","坪塘岭村","孙小云","432302****03278521","C级",{"$f":"VLOOKUP(E189,[1]明细表!$H:$V,15,FALSE)","v":"动态新增"},"贫困残疾",2,"修缮加固","自建",27000,"151977***094","孙小云","432302****03278521","810155****5715917"]
[188,"泗湖山镇","坪塘岭村","田海粮","432302****06278512","C级",{"$f":"VLOOKUP(E190,[1]明细表!$H:$V,15,FALSE)","v":"查漏补缺"},"建档立卡贫困户",3,"修缮加固","自建",22000,"134374***050","田海粮","432302****06278512","810155****3800722"]
[189,"泗湖山镇","坪塘岭村","匡新军","432302****12288516","C级",{"$f":"VLOOKUP(E191,[1]明细表!$H:$V,15,FALSE)","v":"查漏补缺"},"建档立卡贫困户",3,"修缮加固","自建",24000,"136073***474","匡新军","432302****12288516","810155****1536252"]
[190,"泗湖山镇","石子埂村","龙元秀","432302****05258728","C级",{"$f":"VLOOKUP(E192,[1]明细表!$H:$V,15,FALSE)","v":"动态新增"},"贫困残疾",1,"修缮加固","自建",24000,"198737***157","陈建明","432302****02248718","810155****1558936","施工方"]
[191,"泗湖山镇","石子埂村","邱菊秋","432302****09028719","C级",{"$f":"VLOOKUP(E193,[1]明细表!$H:$V,15,FALSE)","v":"动态新增"},"农村低保",2,"修缮加固","自建",26000,"135497***204","周玉明","432302****05238732","810155****1475651","施工方"]
[192,"泗湖山镇","石子埂村","王卫军","432302****09288522","C级",{"$f":"VLOOKUP(E194,[1]明细表!$H:$V,15,FALSE)","v":"动态新增"},"农村低保",2,"修缮加固","自建",20000,"137874***518","王卫军","432302****09288522","810155****3688805"]
[193,"泗湖山镇","石子埂村","黄进芝","432302****11278722","C级",{"$f":"VLOOKUP(E195,[1]明细表!$H:$V,15,FALSE)","v":"查漏补缺"},"建档立卡贫困户",2,"修缮加固","自建",21000,"151737***244","黄进芝","432302****11278722","810155****1730146"]
[194,"泗湖山镇","石子埂村","曾芝云","432302****12058727","C级",{"$f":"VLOOKUP(E196,[1]明细表!$H:$V,15,FALSE)","v":"查漏补缺"},"建档立卡贫困户",1,"修缮加固","自建",21000,"152747***076","周玉明","432302****05238732","810155****1475651","施工方"]
[195,"泗湖山镇","泗湖山社区","徐建军","432302****0811852X","C级",{"$f":"VLOOKUP(E197,[1]明细表!$H:$V,15,FALSE)","v":"动态新增"},"贫困残疾",2,"修缮加固","自建",28000,"199737***353","汤兴隆","432302****09188538","810155****1465268","丈夫"]
[196,"泗湖山镇","中和村","邓四喜","432302****02198319","C级",{"$f":"VLOOKUP(E198,[1]明细表!$H:$V,15,FALSE)","v":"动态新增"},"农村低保",2,"修缮加固","自建",20000,"151167***949","邓四喜","432302****02198319","810155****1469580"]
[197,"泗湖山镇","中和村","周孟辉","432302****10028360","C级",{"$f":"VLOOKUP(E199,[1]明细表!$H:$V,15,FALSE)","v":"动态新增"},"贫困残疾",2,"修缮加固","自建",20000,"189737***003","何勇","432302****0724831X","810155****1547298","丈夫"]
[198,"泗湖山镇","朱冯村","郑阳春","432302****1001851X","C级",{"$f":"VLOOKUP(E200,[1]明细表!$H:$V,15,FALSE)","v":"查漏补缺"},"建档立卡贫困户",1,"修缮加固","自建",20000,"177737***684","郭凤清","432302****09258513","810155****1483254","施工方"]
[199,"新湾镇","老屋冲村村委会","胡勇","430981****07076032","C级",{"$f":"VLOOKUP(E201,[1]明细表!$H:$V,15,FALSE)","v":"动态新增"},"农村低保",3,"维修","自建",24500,"158021***696","胡勇","430981****07115430","810155****9015335"]
[200,"新湾镇","莲花村委会","钟谷丰","430981****03306013","C级",{"$f":"VLOOKUP(E202,[1]明细表!$H:$V,15,FALSE)","v":"现场增补"},"农村分散供养五保户",2,"维修","代建",24500,"181737***151","万清明","432302****04046418","810155****896016"]
[201,"新湾镇","莲花村委会","周定敏","430981****03036011","C级",{"$f":"VLOOKUP(E203,[1]明细表!$H:$V,15,FALSE)","v":"现场增补"},"农村低保",1,"维修","自建",24500,"137171***682","周定敏","430981****03036011","810155****9371353"]
[202,"新湾镇","新湾村委会","张伟军","432302****10186038","C级",{"$f":"VLOOKUP(E204,[1]明细表!$H:$V,15,FALSE)","v":"5批外遗留"},"农村低保",2,"维修","自建",24500,"131351***551","张伟军","432302****10186038","810550****985338"]
[203,"新湾镇","桥北村委会","孙菊元","432302****05296424","C级",{"$f":"VLOOKUP(E205,[1]明细表!$H:$V,15,FALSE)","v":"放弃后增补"},"分散供养特困人员",2,"维修","自建",24500,"138753***363","孙菊元","432302****05296424","810155****2936431"]
[204,"胭脂湖街道","黄家湖村","曾习权","432302****08266617","C",{"$f":"VLOOKUP(E206,[1]明细表!$H:$V,15,FALSE)","v":"5批外遗留"},"已脱贫",1,"维修","代建",16000,"130173***514","邬连生","432302****03236636","810155****7825308"]
[205,"胭脂湖街道","黄家湖村","曾正华","432302****06146619","C",{"$f":"VLOOKUP(E207,[1]明细表!$H:$V,15,FALSE)","v":"5批外遗留"},"五保户",1,"维修","代建",16000,"130173***514","邬连生","432302****03236636","810155****7825308"]
[206,"胭脂湖街道","南竹山村","曾正明","432302****04156919","无房户",{"$f":"VLOOKUP(E208,[1]明细表!$H:$V,15,FALSE)","v":"动态新增"},"贫困残疾人",1,"新建","代建",32000,"199588***036","陈凤牛","432302****03256910","810155****8257671","施工方"]
[207,"胭脂湖街道","胭脂湖村","郭孝初","432302****10026913","C",{"$f":"VLOOKUP(E209,[1]明细表!$H:$V,15,FALSE)","v":"动态新增"},"农村低保",1,"维修","自建",18000,"151167***439","郭孝初","432302****10026913","810155****8210869"]
[208,"胭脂湖街道","荷花村","曾昭米","432302****09066813","无房户",{"$f":"VLOOKUP(E210,[1]明细表!$H:$V,15,FALSE)","v":"动态新增"},"农村低保",1,"新建","自建",30000,"156167***454","曾昭米","432302****09066813","623090****020663714"]
[209,"胭脂湖街道","荷花村","傅志鹏","432302****01126831","C",{"$f":"VLOOKUP(E211,[1]明细表!$H:$V,15,FALSE)","v":"放弃后增补"},"贫困残疾人",1,"维修","自建",30000,"151977***284","傅志鹏","432302****01126831","870212****4309289011"]
[210,"胭脂湖街道","三眼塘村","郭雪云","432302****0614662X","C",{"$f":"VLOOKUP(E212,[1]明细表!$H:$V,15,FALSE)","v":"动态新增"},"农村低保",3,"维修","自建",18500,"131351***675","郭雪云","432302****0614662X","623090****067582728"]
[211,"胭脂湖街道","洞兴村","张运","430981****08056630","C",{"$f":"VLOOKUP(E213,[1]明细表!$H:$V,15,FALSE)","v":"现场增补"},"残疾",3,"维修","自建",30000,"138753***956","张运","430981****08056630","810155****6757104"]
[212,"胭脂湖街道","黄家湖村","曾彩云","432302****11016621","C",{"$f":"VLOOKUP(E214,[1]明细表!$H:$V,15,FALSE)","v":"查漏补缺"},"残疾",2,"维修","自建",30000,"150737***382","徐德林","432302****07086636","810155****7805585","老公"]
[213,"阳罗洲镇","大中村","吴茂生","432302****06135428","D级",{"$f":"VLOOKUP(E215,[1]明细表!$H:$V,15,FALSE)","v":"动态新增"},"低保户",1,"新建","统建",33000,"135747***492","吴阳明","432302****01195434","810155****9993722","领款人为承包方"]
[214,"阳罗洲镇","大中村","董玉兰","432302****02223326","C级",{"$f":"VLOOKUP(E216,[1]明细表!$H:$V,15,FALSE)","v":"动态新增"},"低保户",4,"维修","统建",26000,"132724***956","吴阳明","432302****01195434","810155****9993722","领款人为承包方"]
[215,"阳罗洲镇","东新村","邓建新","432302****10115215","C级",{"$f":"VLOOKUP(E217,[1]明细表!$H:$V,15,FALSE)","v":"动态新增"},"分散供养五保户",1,"维修","自建",21000,"183742***080","邓建新","432302****10115215","810155****0101866"]
[216,"阳罗洲镇","富安村","谢寿保","432302****12245616","C级",{"$f":"VLOOKUP(E218,[1]明细表!$H:$V,15,FALSE)","v":"动态新增"},"低保户",2,"维修","统建",25000,"187737***543","黄润保","432302****04115615","810155****9968059","领款人为承包方"]
[217,"阳罗洲镇","富安村","彭文广","432302****07295610","D级",{"$f":"VLOOKUP(E219,[1]明细表!$H:$V,15,FALSE)","v":"动态新增"},"分散供养五保户",1,"维修","自建",23000,"156737***393","彭文广","432302****07295610","810155****0010956"]
[218,"阳罗洲镇","富民村","许清明","432302****03155613","D级",{"$f":"VLOOKUP(E220,[1]明细表!$H:$V,15,FALSE)","v":"动态新增"},"分散供养五保户",1,"置换","统建",21500,"135747***321","许清明","432302****03155613","810155****0119400"]
[219,"阳罗洲镇","富民村","鲁菊秋","432302****08205658","D级",{"$f":"VLOOKUP(E221,[1]明细表!$H:$V,15,FALSE)","v":"动态新增"},"分散供养五保户",1,"维修","自建",21500,"151167***471","鲁菊秋","432302****08205658","810155****9970056"]
[220,"阳罗洲镇","候龙村","罗丽","432302****04035425","C级",{"$f":"VLOOKUP(E222,[1]明细表!$H:$V,15,FALSE)","v":"动态新增"},"贫困残疾人家庭",2,"维修","自建",23000,"188742***696","艾书春","432302****01105419","810155****9983850","领款人为配偶"]
[221,"阳罗洲镇","俩仪村","徐攀攀","430981****01125624","C级",{"$f":"VLOOKUP(E223,[1]明细表!$H:$V,15,FALSE)","v":"动态新增"},"贫困残疾人家庭",4,"维修","自建",26000,"155751***356","谢双喜","432302****1204541X","810155****9966721","领款人为配偶"]
[222,"阳罗洲镇","胜利村","曾正清","432302****03205216","C级",{"$f":"VLOOKUP(E224,[1]明细表!$H:$V,15,FALSE)","v":"动态新增"},"低保户",2,"维修","自建",23000,"189737***806","曾亚滔","430981****11265118","810111****4291141","领款人为儿子"]
[223,"阳罗洲镇","跃进村","邬海军","430981****06195134","C级",{"$f":"VLOOKUP(E225,[1]明细表!$H:$V,15,FALSE)","v":"动态新增"},"边缘户","3","维修","统建",26000,"136184***173","陈建兰","432302****02235223","810155****0183125","领款人为承包方的妻子"]
[224,"阳罗洲镇","兴乐村","陈文兵","432302****09235614","C级",{"$f":"VLOOKUP(E226,[1]明细表!$H:$V,15,FALSE)","v":"放弃后增补"},"分散供养五保户",1,"维修","自建",22000,"139737***092","颜德良","432302****10135630","810155****9991623","领款人为承包方"]
[225,"阳罗洲镇","富安村","叶外保","432302****01085616","C级",{"$f":"VLOOKUP(E227,[1]明细表!$H:$V,15,FALSE)","v":"放弃后增补"},"已脱贫建档立卡贫困户",2,"维修","自建",26000,"186927***156","叶外保","432302****01085616","810155****9996632"]
[226,"阳罗洲镇","富安村","陈清明","432302****02195610","C级",{"$f":"VLOOKUP(E228,[1]明细表!$H:$V,15,FALSE)","v":"放弃后增补"},"已脱贫建档立卡贫困户",5,"维修","自建",26000,"155263***549","陈清明","432302****02195610","810155****9985938"]