{"text_format":"3","workbook":"xlsx","n_sheets":1,"sheets":["1"],"not_rendered":{"external_links":1},"read":"whole","date_system":"1900"}

{"sheet":"1","index":0,"n_rows":177,"n_cols":14,"rows_kept":177,"merged":[[0,0,0,13]]}
["2025年度中长期职业教育直补花名册"]
["姓名","身份证号","是否监测户","行政区划","受理区县","受理乡镇(街道)","受理村(社区)","组","人员类别","学校属性","学校名称","发放期号(例:202301)","补助年限(对象申请该补助,补助几年就填几)","发放金额"]
["邓成礼",{"$f":"REPLACE('[1]四季红镇 (2)'!B3,8,8,\"********\")","v":"4309811********438"},"否","益阳市","沅江市","四季红镇","四季红村",null,"高职生","高等职业学校","湖南化工职业技术学院","202507","1","4000"]
["邓强志",{"$f":"REPLACE('[1]四季红镇 (2)'!B4,8,8,\"********\")","v":"4323021********818"},"否","益阳市","沅江市","四季红镇","四季红村",null,"高职生","高等职业学校","湖南外贸职业学院","202507","1","4000"]
["谢玲",{"$f":"REPLACE('[1]四季红镇 (2)'!B5,8,8,\"********\")","v":"4309811********424"},"否","益阳市","沅江市","四季红镇","四季红村",null,"高职生","高等职业学校","湖南省交通职业技术学院","202507","1","4000"]
["曾雪兴",{"$f":"REPLACE('[1]四季红镇 (2)'!B6,8,8,\"********\")","v":"4323021********812"},"否","益阳市","沅江市","四季红镇","四季红村",null,"高职生","高等职业学校","湖南生物机电职业技术学院","202507","1","4000"]
["邓志雄",{"$f":"REPLACE('[1]四季红镇 (2)'!B7,8,8,\"********\")","v":"4309811********453"},"否","益阳市","沅江市","四季红镇","四季红村",null,"中职生","中等专业学校","长沙湘江科技中等职业学校","202507","1","4000"]
["吉玉书",{"$f":"REPLACE('[1]四季红镇 (2)'!B8,8,8,\"********\")","v":"4323021********819"},"否","益阳市","沅江市","四季红镇","四季红村",null,"中职生","中等专业学校","江南制船集团职业技术学校","202507","1","4000"]
["邓轶欧",{"$f":"REPLACE('[1]四季红镇 (2)'!B9,8,8,\"********\")","v":"4323021********811"},"否","益阳市","沅江市","四季红镇","四季红村",null,"高职生","高等职业学校","益阳职业技术学院","202507","1","4000"]
["庞石安",{"$f":"REPLACE('[1]四季红镇 (2)'!B10,8,8,\"********\")","v":"4323021********819"},"否","益阳市","沅江市","四季红镇","四季红村",null,"高职生","高等职业学校","湖南现代物流职业技术学院","202507","1","4000"]
["王艳",{"$f":"REPLACE('[1]四季红镇 (2)'!B11,8,8,\"********\")","v":"4309811********449"},"否","益阳市","沅江市","四季红镇","四季红村",null,"中职生","中等专业学校","湖南省沅江市职业中等专业学校","202507","1","4000"]
["邓长海",{"$f":"REPLACE('[1]四季红镇 (2)'!B12,8,8,\"********\")","v":"4323021********810"},"否","益阳市","沅江市","四季红镇","四季红村",null,"高职生","高等职业学校","湖南交通技术学院","202507","1","4000"]
["李安香",{"$f":"REPLACE('[1]四季红镇 (2)'!B13,8,8,\"********\")","v":"4309811********443"},"否","益阳市","沅江市","四季红镇","四季红村",null,"高职生","高等职业学校","张家界航空工业职业技术学院","202507","1","4000"]
["张飞兵",{"$f":"REPLACE('[1]四季红镇 (2)'!B14,8,8,\"********\")","v":"4309811********43X"},"否","益阳市","沅江市","四季红镇","四季红村",null,"中职生","中等专业学校","怀化师范高等专科学校","202507","1","4000"]
["邓建军",{"$f":"REPLACE('[1]四季红镇 (2)'!B15,8,8,\"********\")","v":"4323021********819"},"否","益阳市","沅江市","四季红镇","四季红村",null,"高职生","高等职业学校","湖南邮电职业技术学院","202507","1","4000"]
["邓集群",{"$f":"REPLACE('[1]四季红镇 (2)'!B16,8,8,\"********\")","v":"4323021********817"},"否","益阳市","沅江市","四季红镇","四季红村",null,"高职生","高等职业学校","娄底潇湘职业学院","202507","1","4000"]
["邓战伟",{"$f":"REPLACE('[1]四季红镇 (2)'!B17,8,8,\"********\")","v":"4323021********811"},"否","益阳市","沅江市","四季红镇","四季红村",null,"高职生","高等职业学校","邵阳职业技术学院","202507","1","4000"]
["邓国权",{"$f":"REPLACE('[1]四季红镇 (2)'!B18,8,8,\"********\")","v":"4323021********812"},"否","益阳市","沅江市","四季红镇","四季红村",null,"高职生","高等职业学校","益阳都市职业技术学院","202507","1","4000"]
["魏先顺",{"$f":"REPLACE('[1]四季红镇 (2)'!B19,8,8,\"********\")","v":"4309811********431"},"否","益阳市","沅江市","四季红镇","四季红村",null,"高职生","高等职业学校","湖南工业职业技术学院","202507","1","4000"]
["邓春丰",{"$f":"REPLACE('[1]四季红镇 (2)'!B20,8,8,\"********\")","v":"4309811********417"},"否","益阳市","沅江市","四季红镇","四季红村",null,"高职生","高等职业学校","长沙商贸旅游职业技术学院","202507","1","4000"]
["魏建义",{"$f":"REPLACE('[1]四季红镇 (2)'!B21,8,8,\"********\")","v":"4323021********81X"},"否","益阳市","沅江市","四季红镇","四季红村",null,"中职生","中等专业学校","益阳高级技工学校","202507","1","4000"]
["夏绪诚",{"$f":"REPLACE('[1]四季红镇 (2)'!B22,8,8,\"********\")","v":"4309812********431"},"否","益阳市","沅江市","四季红镇","四季红村",null,"高职生","高等职业学校","湖南工业职业技术学院","202507","1","4000"]
["邓壮华",{"$f":"REPLACE('[1]四季红镇 (2)'!B23,8,8,\"********\")","v":"4323021********816"},"否","益阳市","沅江市","四季红镇","四季红村",null,"中职生","中等专业学校","益阳师范高等专科学校","202507","1","4000"]
["朱进才",{"$f":"REPLACE('[1]四季红镇 (2)'!B24,8,8,\"********\")","v":"4323021********81X"},"否","益阳市","沅江市","四季红镇","四季红村",null,"高职生","高等职业学校","长沙南方职业学院","202507","1","4000"]
["夏桃珍",{"$f":"REPLACE('[1]四季红镇 (2)'!B25,8,8,\"********\")","v":"4323021********824"},"否","益阳市","沅江市","四季红镇","四季红社区",null,"中职生","中等专业学校","怀化职业技术学校","202507","1","4000"]
["刘安见",{"$f":"REPLACE('[1]四季红镇 (2)'!B26,8,8,\"********\")","v":"4323021********812"},"否","益阳市","沅江市","四季红镇","四季红社区",null,"高职生","高等职业学校","湖南电子科技职业学院","202507","1","4000"]
["刘超慧",{"$f":"REPLACE('[1]四季红镇 (2)'!B27,8,8,\"********\")","v":"4309811********42X"},"否","益阳市","沅江市","四季红镇","四季红社区",null,"高职生","高等职业学校","长沙南方职业学院","202507","1","4000"]
["曾雪辉",{"$f":"REPLACE('[1]四季红镇 (2)'!B28,8,8,\"********\")","v":"4309811********420"},"否","益阳市","沅江市","四季红镇","四季红社区",null,"高职生","高等职业学校","长沙南方职业学院","202507","1","4000"]
["夏冬卫",{"$f":"REPLACE('[1]四季红镇 (2)'!B29,8,8,\"********\")","v":"4323021********825"},"否","益阳市","沅江市","四季红镇","四季红社区",null,"高职生","高等职业学校","湖南商务职业学院","202507","1","4000"]
["龚映红",{"$f":"REPLACE('[1]四季红镇 (2)'!B30,8,8,\"********\")","v":"4309811********440"},"否","益阳市","沅江市","四季红镇","四季红社区",null,"高职生","高等职业学校","湖南科技职业学院-智能装备技术院系","202507","1","4000"]
["邓长春",{"$f":"REPLACE('[1]四季红镇 (2)'!B31,8,8,\"********\")","v":"4323021********834"},"否","益阳市","沅江市","四季红镇","四季红社区",null,"高职生","高等职业学校","湖南电气职业技术学院","202507","1","4000"]
["夏拥飞",{"$f":"REPLACE('[1]四季红镇 (2)'!B32,8,8,\"********\")","v":"4323021********832"},"否","益阳市","沅江市","四季红镇","四季红社区",null,"高职生","高等职业学校","湖南工业职业技术学院","202507","1","4000"]
["胡振宇",{"$f":"REPLACE('[1]四季红镇 (2)'!B33,8,8,\"********\")","v":"4323021********837"},"否","益阳市","沅江市","四季红镇","四季红社区",null,"高职生","高等职业学校","益阳师范高等专科学院","202507","1","4000"]
["张宋兵",{"$f":"REPLACE('[1]四季红镇 (2)'!B34,8,8,\"********\")","v":"4323021********859"},"否","益阳市","沅江市","四季红镇","四季红社区",null,"高职生","高等职业学校","湖南民族职业学院","202507","1","4000"]
["刘宽友",{"$f":"REPLACE('[1]四季红镇 (2)'!B35,8,8,\"********\")","v":"4323021********814"},"否","益阳市","沅江市","四季红镇","四季红社区",null,"高职生","高等职业学校","益阳职业技术学院","202507","1","4000"]
["刘月湖",{"$f":"REPLACE('[1]四季红镇 (2)'!B36,8,8,\"********\")","v":"4323021********839"},"否","益阳市","沅江市","四季红镇","四季红社区",null,"高职生","高等职业学校","湖南化工职业技术学院","202507","1","4000"]
["夏延华",{"$f":"REPLACE('[1]四季红镇 (2)'!B37,8,8,\"********\")","v":"4309811********434"},"否","益阳市","沅江市","四季红镇","四季红社区",null,"高职生","高等职业学校","湖南工业职业技术学院","202507","1","4000"]
["李如梦",{"$f":"REPLACE('[1]四季红镇 (2)'!B38,8,8,\"********\")","v":"4309812********428"},"否","益阳市","沅江市","四季红镇","四季红社区",null,"高职生","高等职业学校","湖南生物机电职业技术学院","202507","1","4000"]
["刘成君",{"$f":"REPLACE('[1]四季红镇 (2)'!B39,8,8,\"********\")","v":"4323021********813"},"是","益阳市","沅江市","四季红镇","四季红社区",null,"中职生","中等专业学校","沅江市职业中等专业学校","202507","1","4000"]
["夏勇良",{"$f":"REPLACE('[1]四季红镇 (2)'!B40,8,8,\"********\")","v":"4323021********819"},"否","益阳市","沅江市","四季红镇","四季红社区",null,"高职生","高等职业学校","张家界航空工业职业技术学院","202507","1","4000"]
["夏尹娜",{"$f":"REPLACE('[1]四季红镇 (2)'!B41,8,8,\"********\")","v":"4309812********449"},"否","益阳市","沅江市","四季红镇","四季红社区",null,"高职生","高等职业学校","长沙商贸旅游职业技术学院","202507","1","4000"]
["夏雁兵",{"$f":"REPLACE('[1]四季红镇 (2)'!B42,8,8,\"********\")","v":"4323021********851"},"否","益阳市","沅江市","四季红镇","四季红社区",null,"高职生","高等职业学校","湖南生物机电职业技术学院","202507","2","8000"]
["陈代欣",{"$f":"REPLACE('[1]四季红镇 (2)'!B43,8,8,\"********\")","v":"4309812********410"},"否","益阳市","沅江市","四季红镇","四季红社区",null,"高职生","高等职业学校","长沙民政职业技术学院","202507","1","4000"]
["夏雨睿",{"$f":"REPLACE('[1]四季红镇 (2)'!B44,8,8,\"********\")","v":"4309812********42X"},"否","益阳市","沅江市","四季红镇","四季红社区",null,"高职生","高等职业学校","中南林业科技大学继续教育学院","202507","1","4000"]
["夏菊香",{"$f":"REPLACE('[1]四季红镇 (2)'!B45,8,8,\"********\")","v":"4323021********828"},"否","益阳市","沅江市","四季红镇","四季红社区",null,"高职生","高等职业学校","湖南工程职业技术学院","202507","1","4000"]
["谢峰",{"$f":"REPLACE('[1]四季红镇 (2)'!B46,8,8,\"********\")","v":"4323021********810"},"否","益阳市","沅江市","四季红镇","长征村",null,"高职生","高等职业学校","浙江商业职业技术学院","202507","1","4000"]
["李朝辉",{"$f":"REPLACE('[1]四季红镇 (2)'!B47,8,8,\"********\")","v":"4323021********818"},"否","益阳市","沅江市","四季红镇","长征村",null,"中职生","中等专业学校","湖南工业职业技术学校","202507","1","4000"]
["谢勇周",{"$f":"REPLACE('[1]四季红镇 (2)'!B48,8,8,\"********\")","v":"4323021********814"},"否","益阳市","沅江市","四季红镇","长征村",null,"高职生","高等职业学校","长沙轨道交通职业学院","202507","1","4000"]
["谢江云",{"$f":"REPLACE('[1]四季红镇 (2)'!B49,8,8,\"********\")","v":"4323021********835"},"否","益阳市","沅江市","四季红镇","长征村",null,"高职生","高等职业学校","怀化职业技术学院","202507","1","4000"]
["李佳才",{"$f":"REPLACE('[1]四季红镇 (2)'!B50,8,8,\"********\")","v":"4323021********818"},"否","益阳市","沅江市","四季红镇","长征村",null,"中职生","中等专业学校","湖南都市职业学校","202507","1","4000"]
["胡爱国",{"$f":"REPLACE('[1]四季红镇 (2)'!B51,8,8,\"********\")","v":"4323021********810"},"否","益阳市","沅江市","四季红镇","长征村",null,"高职生","高等职业学校","湖南工业职业技术学院","202507","1","4000"]
["谢高明",{"$f":"REPLACE('[1]四季红镇 (2)'!B52,8,8,\"********\")","v":"4323021********813"},"否","益阳市","沅江市","四季红镇","长征村",null,"高职生","高等职业学校","湖南商务职业技术学院","202507","1","4000"]
["谢中云",{"$f":"REPLACE('[1]四季红镇 (2)'!B53,8,8,\"********\")","v":"4323021********812"},"否","益阳市","沅江市","四季红镇","长征村",null,"高职生","高等职业学校","浙江工业职业技术学院","202507","1","4000"]
["刘建华",{"$f":"REPLACE('[1]四季红镇 (2)'!B54,8,8,\"********\")","v":"4323021********817"},"否","益阳市","沅江市","四季红镇","长征村",null,"高职生","高等职业学校","湖南外国语职业学院","202507","1","4000"]
["谢建维",{"$f":"REPLACE('[1]四季红镇 (2)'!B55,8,8,\"********\")","v":"4323021********818"},"否","益阳市","沅江市","四季红镇","长征村",null,"高职生","高等职业学校","常州机电职业技术学院","202507","1","4000"]
["刘丰良",{"$f":"REPLACE('[1]四季红镇 (2)'!B56,8,8,\"********\")","v":"4323021********819"},"否","益阳市","沅江市","四季红镇","长征村",null,"中职生","中等专业学校","长沙经贸职业中等学校","202507","1","4000"]
["刘安勇",{"$f":"REPLACE('[1]四季红镇 (2)'!B57,8,8,\"********\")","v":"4323021********836"},"否","益阳市","沅江市","四季红镇","长征村",null,"高职生","高等职业学校","湖南交通职业技术学院建筑工程学院","202507","1","4000"]
["邓练勤",{"$f":"REPLACE('[1]四季红镇 (2)'!B58,8,8,\"********\")","v":"4323021********813"},"否","益阳市","沅江市","四季红镇","长征村",null,"高职生","高等职业学校","湖南城建职业技术学院","202507","1","4000"]
["邓凯",{"$f":"REPLACE('[1]四季红镇 (2)'!B59,8,8,\"********\")","v":"4323021********817"},"否","益阳市","沅江市","四季红镇","长征村",null,"高职生","高等职业学校","湖南生物机电职业技术学院","202507","1","4000"]
["张贞勤",{"$f":"REPLACE('[1]四季红镇 (2)'!B60,8,8,\"********\")","v":"5224261********840"},"否","益阳市","沅江市","四季红镇","长征村",null,"高职生","高等职业学校","长沙职业技术学院","202507","2","8000"]
["李丽秀",{"$f":"REPLACE('[1]四季红镇 (2)'!B61,8,8,\"********\")","v":"4308221********042"},"否","益阳市","沅江市","四季红镇","长征村",null,"高职生","高等职业学校","长沙职业技术学院","202507","1","4000"]
["邓海军",{"$f":"REPLACE('[1]四季红镇 (2)'!B62,8,8,\"********\")","v":"4306021********116"},"否","益阳市","沅江市","四季红镇","长征村",null,"高职生","高等职业学校","长沙南方职业学院","202507","1","4000"]
["谢伟",{"$f":"REPLACE('[1]四季红镇 (2)'!B63,8,8,\"********\")","v":"4323021********815"},"否","益阳市","沅江市","四季红镇","长征村",null,"中职生","中等专业学校","湖南省沅江市职业中专专业学校","202507","1","4000"]
["张霞花",{"$f":"REPLACE('[1]四季红镇 (2)'!B64,8,8,\"********\")","v":"4323021********848"},"否","益阳市","沅江市","四季红镇","东红新村",null,"中职生","中等专业学校","益阳医学高等专科学校","202507","1","4000"]
["张伯勋",{"$f":"REPLACE('[1]四季红镇 (2)'!B65,8,8,\"********\")","v":"4323021********836"},"否","益阳市","沅江市","四季红镇","东红新村",null,"高职生","高等职业学校","张家界航空工业职业技术学院","202507","1","4000"]
["邓淑红",{"$f":"REPLACE('[1]四季红镇 (2)'!B66,8,8,\"********\")","v":"4323021********827"},"否","益阳市","沅江市","四季红镇","东红新村",null,"高职生","高等职业学校","湖南工程职业技术学院","202507","1","4000"]
["程迟群",{"$f":"REPLACE('[1]四季红镇 (2)'!B67,8,8,\"********\")","v":"4323021********824"},"否","益阳市","沅江市","四季红镇","东红新村",null,"高职生","高等职业学校","邵阳职业技术学院","202507","1","4000"]
["王在平",{"$f":"REPLACE('[1]四季红镇 (2)'!B68,8,8,\"********\")","v":"4309811********437"},"否","益阳市","沅江市","四季红镇","东红新村",null,"高职生","高等职业学校","湖南网络工程职业学院经济管理学院","202507","1","4000"]
["王在尚",{"$f":"REPLACE('[1]四季红镇 (2)'!B69,8,8,\"********\")","v":"4323021********810"},"是","益阳市","沅江市","四季红镇","东红新村",null,"高职生","高等职业学校","湖南城建职业技术学院","202507","1","4000"]
["张仁作",{"$f":"REPLACE('[1]四季红镇 (2)'!B70,8,8,\"********\")","v":"4323021********819"},"否","益阳市","沅江市","四季红镇","东红新村",null,"高职生","高等职业学校","湖南现代物流职业技术学院","202507","1","4000"]
["夏新国",{"$f":"REPLACE('[1]四季红镇 (2)'!B71,8,8,\"********\")","v":"4309811********413"},"否","益阳市","沅江市","四季红镇","东红新村",null,"高职生","高等职业学校","湖南工商职业学院","202507","1","4000"]
["程建军",{"$f":"REPLACE('[1]四季红镇 (2)'!B72,8,8,\"********\")","v":"4323021********811"},"是","益阳市","沅江市","四季红镇","东红新村",null,"高职生","高等职业学校","长沙民政职业技术学院","202507","1","4000"]
["程志彪",{"$f":"REPLACE('[1]四季红镇 (2)'!B73,8,8,\"********\")","v":"4309811********41X"},"否","益阳市","沅江市","四季红镇","东红新村",null,"高职生","高等职业学校","湖南软件职业技术大学","202507","1","4000"]
["程仲秋",{"$f":"REPLACE('[1]四季红镇 (2)'!B74,8,8,\"********\")","v":"4309811********413"},"否","益阳市","沅江市","四季红镇","东红新村",null,"中职生","中等专业学校","沅江市职业中等专业学校","202507","1","4000"]
["程志刚",{"$f":"REPLACE('[1]四季红镇 (2)'!B75,8,8,\"********\")","v":"4309811********41X"},"否","益阳市","沅江市","四季红镇","东红新村",null,"高职生","高等职业学校","湖南软件职业技术大学","202507","1","4000"]
["程拥军",{"$f":"REPLACE('[1]四季红镇 (2)'!B76,8,8,\"********\")","v":"4323021********815"},"否","益阳市","沅江市","四季红镇","东红新村",null,"高职生","高等职业学校","湖南现代物流职业技术学院","202507","1","4000"]
["郭小平",{"$f":"REPLACE('[1]四季红镇 (2)'!B77,8,8,\"********\")","v":"4323021********816"},"否","益阳市","沅江市","四季红镇","东红新村",null,"高职生","高等职业学校","益阳职业技术学院","202507","1","4000"]
["郭交平",{"$f":"REPLACE('[1]四季红镇 (2)'!B78,8,8,\"********\")","v":"4323021********851"},"否","益阳市","沅江市","四季红镇","东红新村",null,"高职生","高等职业学校","湖南都市职业学院","202507","1","4000"]
["朱金波",{"$f":"REPLACE('[1]四季红镇 (2)'!B79,8,8,\"********\")","v":"4323021********818"},"否","益阳市","沅江市","四季红镇","东红新村",null,"高职生","高等职业学校","湖南城建职业技术学院","202507","1","4000"]
["刘吉红",{"$f":"REPLACE('[1]四季红镇 (2)'!B80,8,8,\"********\")","v":"4323021********831"},"否","益阳市","沅江市","四季红镇","东红新村",null,"高职生","高等职业学校","湖南信息职业技术学院","202507","1","4000"]
["戴为风",{"$f":"REPLACE('[1]四季红镇 (2)'!B81,8,8,\"********\")","v":"4323021********851"},"否","益阳市","沅江市","四季红镇","东红新村",null,"高职生","高等职业学校","湖南生物机电职业技术学院","202507","1","4000"]
["王远清",{"$f":"REPLACE('[1]四季红镇 (2)'!B82,8,8,\"********\")","v":"4323021********812"},"否","益阳市","沅江市","四季红镇","东红新村",null,"高职生","高等职业学校","湖南现代物流职业技术学院","202507","1","4000"]
["王仙丰",{"$f":"REPLACE('[1]四季红镇 (2)'!B83,8,8,\"********\")","v":"4323021********810"},"否","益阳市","沅江市","四季红镇","东红新村",null,"高职生","高等职业学校","湖南省民族职业学院","202507","1","4000"]
["王伟丁",{"$f":"REPLACE('[1]四季红镇 (2)'!B84,8,8,\"********\")","v":"4323021********833"},"否","益阳市","沅江市","四季红镇","东红新村",null,"高职生","高等职业学校","湖南网络工程职业学院","202507","1","4000"]
["金剑",{"$f":"REPLACE('[1]四季红镇 (2)'!B85,8,8,\"********\")","v":"4309811********432"},"否","益阳市","沅江市","四季红镇","东红新村",null,"中职生","中等专业学校","宜春幼儿师范高等专科学校","202507","1","4000"]
["贺先勇",{"$f":"REPLACE('[1]四季红镇 (2)'!B86,8,8,\"********\")","v":"4323021********856"},"否","益阳市","沅江市","四季红镇","东红新村",null,"高职生","高等职业学校","湖南工程职业技术学院","202507","1","4000"]
["郭叶凡",{"$f":"REPLACE('[1]四季红镇 (2)'!B87,8,8,\"********\")","v":"4323021********83X"},"否","益阳市","沅江市","四季红镇","东红新村",null,"中职生","中等专业学校","益阳医学高等专科学校","202507","1","4000"]
["龚智谋",{"$f":"REPLACE('[1]四季红镇 (2)'!B88,8,8,\"********\")","v":"4309811********451"},"否","益阳市","沅江市","四季红镇","东红新村",null,"高职生","高等职业学校","湖南水利水电职业技术学院","202507","1","4000"]
["邓亚先",{"$f":"REPLACE('[1]四季红镇 (2)'!B89,8,8,\"********\")","v":"4323021********839"},"否","益阳市","沅江市","四季红镇","东红新村",null,"高职生","高等职业学校","湖南工程职业技术学院","202507","1","4000"]
["邓志朝",{"$f":"REPLACE('[1]四季红镇 (2)'!B90,8,8,\"********\")","v":"4309811********438"},"否","益阳市","沅江市","四季红镇","东红新村",null,"中职生","中等专业学校","娄底幼儿师范高等专科学校","202507","1","4000"]
["胡娟",{"$f":"REPLACE('[1]四季红镇 (2)'!B91,8,8,\"********\")","v":"4309811********423"},"否","益阳市","沅江市","四季红镇","东红新村",null,"高职生","高等职业学校","湖南都市职业学院","202507","1","4000"]
["徐建芬",{"$f":"REPLACE('[1]四季红镇 (2)'!B92,8,8,\"********\")","v":"4309811********425"},"否","益阳市","沅江市","四季红镇","东红新村",null,"高职生","高等职业学校","湖南工商职业学院","202507","1","4000"]
["周剑锋",{"$f":"REPLACE('[1]四季红镇 (2)'!B93,8,8,\"********\")","v":"4309811********437"},"否","益阳市","沅江市","四季红镇","东红新村",null,"高职生","高等职业学校","湖南安全技术职业学院","202507","1","4000"]
["夏新韶",{"$f":"REPLACE('[1]四季红镇 (2)'!B94,8,8,\"********\")","v":"4323021********812"},"是","益阳市","沅江市","四季红镇","阳雀洪村",null,"高职生","高等职业学校","湖南机电职业技术学院","202507","1","4000"]
["夏兴球",{"$f":"REPLACE('[1]四季红镇 (2)'!B95,8,8,\"********\")","v":"4323021********839"},"否","益阳市","沅江市","四季红镇","阳雀洪村",null,"高职生","高等职业学校","湖南化工职业技术学院","202507","1","4000"]
["夏小花",{"$f":"REPLACE('[1]四季红镇 (2)'!B96,8,8,\"********\")","v":"4323021********821"},"否","益阳市","沅江市","四季红镇","阳雀洪村",null,"高职生","高等职业学校","湖南现代物流职业技术学院","202507","1","4000"]
["夏经辉",{"$f":"REPLACE('[1]四季红镇 (2)'!B97,8,8,\"********\")","v":"4323021********817"},"是","益阳市","沅江市","四季红镇","阳雀洪村",null,"高职生","高等职业学校","湖南工艺美术职业学院","202507","1","4000"]
["夏新维",{"$f":"REPLACE('[1]四季红镇 (2)'!B98,8,8,\"********\")","v":"4323021********831"},"否","益阳市","沅江市","四季红镇","阳雀洪村",null,"高职生","高等职业学校","长沙民政职业技术学院","202507","1","4000"]
["夏实权",{"$f":"REPLACE('[1]四季红镇 (2)'!B99,8,8,\"********\")","v":"4323021********83X"},"否","益阳市","沅江市","四季红镇","阳雀洪村",null,"高职生","高等职业学校","广东省技师学院","202507","1","4000"]
["夏备战",{"$f":"REPLACE('[1]四季红镇 (2)'!B100,8,8,\"********\")","v":"4323021********810"},"否","益阳市","沅江市","四季红镇","阳雀洪村",null,"高职生","高等职业学校","湖南工程职业技术学院","202507","1","4000"]
["夏军山",{"$f":"REPLACE('[1]四季红镇 (2)'!B101,8,8,\"********\")","v":"4323021********836"},"否","益阳市","沅江市","四季红镇","阳雀洪村",null,"高职生","高等职业学校","张家界航空工业职业技术学院","202507","1","4000"]
["夏有文",{"$f":"REPLACE('[1]四季红镇 (2)'!B102,8,8,\"********\")","v":"4323021********835"},"否","益阳市","沅江市","四季红镇","阳雀洪村",null,"高职生","高等职业学校","长沙南方职业学院","202507","1","4000"]
["夏成文",{"$f":"REPLACE('[1]四季红镇 (2)'!B103,8,8,\"********\")","v":"4309811********436"},"否","益阳市","沅江市","四季红镇","阳雀洪村",null,"高职生","高等职业学校","长沙南方职业学院","202507","1","4000"]
["夏朝辉",{"$f":"REPLACE('[1]四季红镇 (2)'!B104,8,8,\"********\")","v":"4323021********818"},"否","益阳市","沅江市","四季红镇","阳雀洪村",null,"高职生","高等职业学校","湖南机电职业技术学院","202507","1","4000"]
["夏初开",{"$f":"REPLACE('[1]四季红镇 (2)'!B105,8,8,\"********\")","v":"4309811********433"},"否","益阳市","沅江市","四季红镇","阳雀洪村",null,"高职生","高等职业学校","湖南食品药品职业学院","202507","1","4000"]
["夏妹文",{"$f":"REPLACE('[1]四季红镇 (2)'!B106,8,8,\"********\")","v":"4323021********821"},"否","益阳市","沅江市","四季红镇","阳雀洪村",null,"高职生","高等职业学校","湖南电子科技职业学院","202507","1","4000"]
["邓建梅",{"$f":"REPLACE('[1]四季红镇 (2)'!B107,8,8,\"********\")","v":"4309811********429"},"否","益阳市","沅江市","四季红镇","阳雀洪村",null,"高职生","高等职业学校","湖南国防工业技术学院","202507","1","4000"]
["虢燕",{"$f":"REPLACE('[1]四季红镇 (2)'!B108,8,8,\"********\")","v":"4309211********581"},"否","益阳市","沅江市","四季红镇","阳雀洪村",null,"高职生","高等职业学校","广东生态工程职业学院","202507","1","4000"]
["石敏",{"$f":"REPLACE('[1]四季红镇 (2)'!B109,8,8,\"********\")","v":"4309211********822"},"否","益阳市","沅江市","四季红镇","阳雀洪村",null,"高职生","高等职业学校","湘西民族职业技术学院","202507","1","4000"]
["罗喜怀",{"$f":"REPLACE('[1]四季红镇 (2)'!B110,8,8,\"********\")","v":"4309811********448"},"否","益阳市","沅江市","四季红镇","阳雀洪村",null,"中职生","中等专业学校","益阳医学高等专科学校","202507","1","4000"]
["夏证明",{"$f":"REPLACE('[1]四季红镇 (2)'!B111,8,8,\"********\")","v":"4323021********810"},"是","益阳市","沅江市","四季红镇","阳雀洪村",null,"高职生","高等职业学校","岳阳职业技术学院","202507","1","4000"]
["夏敏",{"$f":"REPLACE('[1]四季红镇 (2)'!B112,8,8,\"********\")","v":"4309811********41X"},"否","益阳市","沅江市","四季红镇","先锋村",null,"高职生","高等职业学校","张家界航空职业技术学院","202507","1","4000"]
["夏松海",{"$f":"REPLACE('[1]四季红镇 (2)'!B113,8,8,\"********\")","v":"4323021********81X"},"否","益阳市","沅江市","四季红镇","先锋村",null,"高职生","高等职业学校","常德职业技术学院","202507","1","4000"]
["夏力军",{"$f":"REPLACE('[1]四季红镇 (2)'!B114,8,8,\"********\")","v":"4323021********814"},"否","益阳市","沅江市","四季红镇","先锋村",null,"高职生","高等职业学校","湖南汽车工程职业学院","202507","1","4000"]
["夏新兵",{"$f":"REPLACE('[1]四季红镇 (2)'!B115,8,8,\"********\")","v":"4323021********817"},"否","益阳市","沅江市","四季红镇","先锋村",null,"高职生","高等职业学校","湖南工业大学醴陵陶瓷学院","202507","1","4000"]
["刘玉堂",{"$f":"REPLACE('[1]四季红镇 (2)'!B116,8,8,\"********\")","v":"4323021********839"},"否","益阳市","沅江市","四季红镇","先锋村",null,"高职生","高等职业学校","湖南国防工业职业技术学院","202507","1","4000"]
["夏卫芳",{"$f":"REPLACE('[1]四季红镇 (2)'!B117,8,8,\"********\")","v":"4309811********428"},"否","益阳市","沅江市","四季红镇","先锋村",null,"高职生","高等职业学校","湖南软件职业技术大学","202507","1","4000"]
["夏巧玲",{"$f":"REPLACE('[1]四季红镇 (2)'!B118,8,8,\"********\")","v":"4309811********446"},"否","益阳市","沅江市","四季红镇","先锋村",null,"高职生","高等职业学校","岳阳现代服务职业学院","202507","1","4000"]
["夏润棋",{"$f":"REPLACE('[1]四季红镇 (2)'!B119,8,8,\"********\")","v":"4309811********419"},"否","益阳市","沅江市","四季红镇","先锋村",null,"高职生","高等职业学校","广州南洋理工职业学院","202507","1","4000"]
["夏利群",{"$f":"REPLACE('[1]四季红镇 (2)'!B120,8,8,\"********\")","v":"4323021********833"},"否","益阳市","沅江市","四季红镇","先锋村",null,"高职生","高等职业学校","长沙轨道交通职业学院","202507","1","4000"]
["夏高跳",{"$f":"REPLACE('[1]四季红镇 (2)'!B121,8,8,\"********\")","v":"4309811********413"},"否","益阳市","沅江市","四季红镇","先锋村",null,"高职生","高等职业学校","益阳职业技术学院","202507","1","4000"]
["夏少林",{"$f":"REPLACE('[1]四季红镇 (2)'!B122,8,8,\"********\")","v":"4323021********812"},"否","益阳市","沅江市","四季红镇","先锋村",null,"高职生","高等职业学校","广东科学技术职业学院","202507","1","4000"]
["夏向阳",{"$f":"REPLACE('[1]四季红镇 (2)'!B123,8,8,\"********\")","v":"4323021********837"},"否","益阳市","沅江市","四季红镇","先锋村",null,"中职生","中等专业学校","益阳医学高等专科学校","202507","1","4000"]
["夏毅刚",{"$f":"REPLACE('[1]四季红镇 (2)'!B124,8,8,\"********\")","v":"4323021********81X"},"否","益阳市","沅江市","四季红镇","先锋村",null,"高职生","高等职业学校","长沙职业技术学院","202507","1","4000"]
["夏美云",{"$f":"REPLACE('[1]四季红镇 (2)'!B125,8,8,\"********\")","v":"4323021********825"},"否","益阳市","沅江市","四季红镇","先锋村",null,"高职生","高等职业学校","上海电机学院","202507","1","4000"]
["欧锡文",{"$f":"REPLACE('[1]四季红镇 (2)'!B126,8,8,\"********\")","v":"4323021********658"},"否","益阳市","沅江市","四季红镇","先锋村",null,"高职生","高等职业学校","长沙环境保护职业技术学院","202507","1","4000"]
["夏政威",{"$f":"REPLACE('[1]四季红镇 (2)'!B127,8,8,\"********\")","v":"4309812********410"},"否","益阳市","沅江市","四季红镇","先锋村",null,"高职生","高等职业学校","湖南工程职业技术学院","202507","1","4000"]
["张怡胜",{"$f":"REPLACE('[1]四季红镇 (2)'!B128,8,8,\"********\")","v":"4323021********813"},"否","益阳市","沅江市","四季红镇","安心村",null,"高职生","高等职业学校","湖南工程职业技术学院","202507","1","4000"]
["孟晗",{"$f":"REPLACE('[1]四季红镇 (2)'!B129,8,8,\"********\")","v":"4309812********487"},"否","益阳市","沅江市","四季红镇","安心村",null,"中职生","中等专业学校","湖南食品药品职业学校","202507","1","4000"]
["张植斌",{"$f":"REPLACE('[1]四季红镇 (2)'!B130,8,8,\"********\")","v":"4309811********434"},"否","益阳市","沅江市","四季红镇","安心村",null,"高职生","高等职业学校","长沙南方职业学院","202507","1","4000"]
["郭智辉",{"$f":"REPLACE('[1]四季红镇 (2)'!B131,8,8,\"********\")","v":"4309811********424"},"否","益阳市","沅江市","四季红镇","安心村",null,"高职生","高等职业学校","湖南科技职业学院","202507","1","4000"]
["夏建云",{"$f":"REPLACE('[1]四季红镇 (2)'!B132,8,8,\"********\")","v":"4323021********81X"},"否","益阳市","沅江市","四季红镇","安心村",null,"高职生","高等职业学校","湖南生物机电职业技术学院","202507","1","4000"]
["邓宗润",{"$f":"REPLACE('[1]四季红镇 (2)'!B133,8,8,\"********\")","v":"4323021********834"},"否","益阳市","沅江市","四季红镇","安心村",null,"高职生","高等职业学校","湖南水利水电职业技术学院","202507","1","4000"]
["李敬国",{"$f":"REPLACE('[1]四季红镇 (2)'!B134,8,8,\"********\")","v":"4308021********234"},"否","益阳市","沅江市","四季红镇","安心村",null,"中职生","中等专业学校","湖南兵器工业高级技工学校","202507","1","4000"]
["孟学君",{"$f":"REPLACE('[1]四季红镇 (2)'!B135,8,8,\"********\")","v":"4323021********812"},"否","益阳市","沅江市","四季红镇","安心村",null,"高职生","高等职业学校","湖南商务职业技术学院","202507","1","4000"]
["夏雨寒",{"$f":"REPLACE('[1]四季红镇 (2)'!B136,8,8,\"********\")","v":"4309812********429"},"否","益阳市","沅江市","四季红镇","安心村",null,"高职生","高等职业学校","天津生物工程职业技术学院","202507","1","4000"]
["陈解花",{"$f":"REPLACE('[1]四季红镇 (2)'!B137,8,8,\"********\")","v":"4323021********840"},"否","益阳市","沅江市","四季红镇","安心村",null,"中职生","中等专业学校","湖南工业职业技术学校","202507","1","4000"]
["张育华",{"$f":"REPLACE('[1]四季红镇 (2)'!B138,8,8,\"********\")","v":"4323021********818"},"否","益阳市","沅江市","四季红镇","安心村",null,"高职生","高等职业学校","长沙文创艺术职业学院","202507","1","4000"]
["邓小保",{"$f":"REPLACE('[1]四季红镇 (2)'!B139,8,8,\"********\")","v":"4323021********819"},"否","益阳市","沅江市","四季红镇","安心村",null,"高职生","高等职业学校","湖南食品药品职业学院","202507","1","4000"]
["周海英",{"$f":"REPLACE('[1]四季红镇 (2)'!B140,8,8,\"********\")","v":"4323021********815"},"否","益阳市","沅江市","四季红镇","安心村",null,"中职生","中等专业学校","益阳师范高等专科学校","202507","1","4000"]
["成石容",{"$f":"REPLACE('[1]四季红镇 (2)'!B141,8,8,\"********\")","v":"4323021********818"},"否","益阳市","沅江市","四季红镇","安心村",null,"高职生","高等职业学校","保险职业学院","202507","1","4000"]
["戴念辉",{"$f":"REPLACE('[1]四季红镇 (2)'!B142,8,8,\"********\")","v":"4309811********415"},"否","益阳市","沅江市","四季红镇","安心村",null,"高职生","高等职业学校","湖南信息学院艺术学院","202507","1","4000"]
["张跃军",{"$f":"REPLACE('[1]四季红镇 (2)'!B143,8,8,\"********\")","v":"4323021********832"},"否","益阳市","沅江市","四季红镇","玉鹊村",null,"中职生","中等专业学校","湖南交通职业技术学校","202507","1","4000"]
["夏凯林",{"$f":"REPLACE('[1]四季红镇 (2)'!B144,8,8,\"********\")","v":"4323021********839"},"否","益阳市","沅江市","四季红镇","玉鹊村",null,"高职生","高等职业学校","长沙南方职业学院","202507","1","4000"]
["韩罗生",{"$f":"REPLACE('[1]四季红镇 (2)'!B145,8,8,\"********\")","v":"4323021********830"},"否","益阳市","沅江市","四季红镇","玉鹊村",null,"中职生","中等专业学校","湖南省兵器高级工业技工学校","202507","1","4000"]
["刘唐文",{"$f":"REPLACE('[1]四季红镇 (2)'!B146,8,8,\"********\")","v":"4309811********430"},"否","益阳市","沅江市","四季红镇","玉鹊村",null,"高职生","高等职业学校","益阳职业技术学院","202507","1","4000"]
["刘玉喜",{"$f":"REPLACE('[1]四季红镇 (2)'!B147,8,8,\"********\")","v":"4323021********82X"},"否","益阳市","沅江市","四季红镇","玉鹊村",null,"高职生","高等职业学校","湖南外国语职业学院","202507","1","4000"]
["彭丽",{"$f":"REPLACE('[1]四季红镇 (2)'!B148,8,8,\"********\")","v":"4309211********925"},"否","益阳市","沅江市","四季红镇","玉鹊村",null,"高职生","高等职业学校","长沙南方职业学院","202507","1","4000"]
["夏海霞",{"$f":"REPLACE('[1]四季红镇 (2)'!B149,8,8,\"********\")","v":"4323021********840"},"否","益阳市","沅江市","四季红镇","玉鹊村",null,"高职生","高等职业学校","长沙南方职业学院","202507","1","4000"]
["莫再香",{"$f":"REPLACE('[1]四季红镇 (2)'!B150,8,8,\"********\")","v":"4312301********324"},"否","益阳市","沅江市","四季红镇","玉鹊村",null,"高职生","高等职业学校","湖南生物机电职业技术学院","202507","1","4000"]
["夏培玲",{"$f":"REPLACE('[1]四季红镇 (2)'!B151,8,8,\"********\")","v":"4309812********426"},"否","益阳市","沅江市","四季红镇","玉鹊村",null,"高职生","高等职业学校","湖南高速铁路职业技术学院","202507","1","4000"]
["夏田枝",{"$f":"REPLACE('[1]四季红镇 (2)'!B152,8,8,\"********\")","v":"4323261********963"},"否","益阳市","沅江市","四季红镇","玉鹊村",null,"高职生","高等职业学校","长沙轨道交通职业学院","202507","1","4000"]
["刘丁高",{"$f":"REPLACE('[1]四季红镇 (2)'!B153,8,8,\"********\")","v":"4309811********439"},"否","益阳市","沅江市","四季红镇","玉鹊村",null,"中职生","中等专业学校","湖南省兵器高级工业技工学校","202507","1","4000"]
["刘战军",{"$f":"REPLACE('[1]四季红镇 (2)'!B154,8,8,\"********\")","v":"4323021********858"},"否","益阳市","沅江市","四季红镇","玉鹊村",null,"高职生","高等职业学校","湖南科技职业学院","202507","1","4000"]
["刘智刚",{"$f":"REPLACE('[1]四季红镇 (2)'!B155,8,8,\"********\")","v":"4323021********81X"},"否","益阳市","沅江市","四季红镇","玉鹊村",null,"高职生","高等职业学校","湖南工业技术职业学院","202507","1","4000"]
["胡司晨",{"$f":"REPLACE('[1]四季红镇 (2)'!B156,8,8,\"********\")","v":"4309812********443"},"否","益阳市","沅江市","四季红镇","玉鹊村",null,"高职生","高等职业学校","湖南民族职业学院","202507","1","4000"]
["夏新元",{"$f":"REPLACE('[1]四季红镇 (2)'!B157,8,8,\"********\")","v":"4323021********839"},"否","益阳市","沅江市","四季红镇","玉鹊村",null,"中职生","中等专业学校","长沙市卫生职业学校","202507","1","4000"]
["郭红霞",{"$f":"REPLACE('[1]四季红镇 (2)'!B158,8,8,\"********\")","v":"4309811********424"},"否","益阳市","沅江市","四季红镇","玉鹊村",null,"高职生","高等职业学校","常德职业技术学院","202507","1","4000"]
["贺兰花",{"$f":"REPLACE('[1]四季红镇 (2)'!B159,8,8,\"********\")","v":"4309811********440"},"否","益阳市","沅江市","四季红镇","玉鹊村",null,"中职生","中等专业学校","益阳市少年儿童体育学校","202507","1","4000"]
["夏延厚",{"$f":"REPLACE('[1]四季红镇 (2)'!B160,8,8,\"********\")","v":"4323021********832"},"否","益阳市","沅江市","四季红镇","玉鹊村",null,"高职生","高等职业学校","湖南现代物流职业技术学院","202507","1","4000"]
["刘熏陶",{"$f":"REPLACE('[1]四季红镇 (2)'!B161,8,8,\"********\")","v":"4309811********43X"},"否","益阳市","沅江市","四季红镇","玉鹊村",null,"高职生","高等职业学校","长沙卫生职业学院","202507","1","4000"]
["刘晓云",{"$f":"REPLACE('[1]四季红镇 (2)'!B162,8,8,\"********\")","v":"4309811********448"},"否","益阳市","沅江市","四季红镇","玉鹊村",null,"高职生","高等职业学校","生物环境工程学院","202507","1","4000"]
["夏新秋",{"$f":"REPLACE('[1]四季红镇 (2)'!B163,8,8,\"********\")","v":"4323021********811"},"否","益阳市","沅江市","四季红镇","玉鹊村",null,"高职生","高等职业学校","湘潭医卫职业技术学院","202507","1","4000"]
["刘湘沅",{"$f":"REPLACE('[1]四季红镇 (2)'!B164,8,8,\"********\")","v":"4309811********440"},"否","益阳市","沅江市","四季红镇","玉鹊村",null,"高职生","高等职业学校","湖南三一工业职业技术学院","202507","1","4000"]
["胡爱辉",{"$f":"REPLACE('[1]四季红镇 (2)'!B165,8,8,\"********\")","v":"4323021********824"},"否","益阳市","沅江市","四季红镇","玉鹊村",null,"高职生","高等职业学校","长沙南方职业学院","202507","1","4000"]
["夏爱红",{"$f":"REPLACE('[1]四季红镇 (2)'!B166,8,8,\"********\")","v":"4323021********826"},"否","益阳市","沅江市","四季红镇","玉鹊村",null,"高职生","高等职业学校","邵阳职业技术学院","202507","1","4000"]
["夏昊",{"$f":"REPLACE('[1]四季红镇 (2)'!B167,8,8,\"********\")","v":"4309811********416"},"否","益阳市","沅江市","四季红镇","玉鹊村",null,"高职生","高等职业学校","湖北轻工职业技术学院","202507","1","4000"]
["胡左武",{"$f":"REPLACE('[1]四季红镇 (2)'!B168,8,8,\"********\")","v":"4323021********83X"},"否","益阳市","沅江市","四季红镇","玉鹊村",null,"高职生","高等职业学校","重庆旅游职业学院","202507","1","4000"]
["封叔洪",{"$f":"REPLACE('[1]四季红镇 (2)'!B169,8,8,\"********\")","v":"4323021********839"},"否","益阳市","沅江市","四季红镇","玉鹊村",null,"高职生","高等职业学校","洛阳职业技术学院","202507","1","4000"]
["周茂春",{"$f":"REPLACE('[1]四季红镇 (2)'!B170,8,8,\"********\")","v":"4309811********445"},"否","益阳市","沅江市","四季红镇","玉鹊村",null,"高职生","高等职业学校","永州职业技术学院","202507","1","4000"]
["彭大华",{"$f":"REPLACE('[1]四季红镇 (2)'!B171,8,8,\"********\")","v":"4227271********010"},"否","益阳市","沅江市","阳罗洲镇","富安村",null,"高职生","高等职业学校","湖北船舶职业技术学院","202507","1","4000"]
["汤培芳",{"$f":"REPLACE('[1]四季红镇 (2)'!B172,8,8,\"********\")","v":"4323021********719"},"否","益阳市","沅江市","泗湖山镇","华星村",null,"高职生","高等职业学校","湖南科技职业学院","202507","1","4000"]
["柳忠于",{"$f":"REPLACE('[1]四季红镇 (2)'!B173,8,8,\"********\")","v":"4323021********016"},"否","益阳市","沅江市","南大膳镇","南丰垸村",null,"高职生","高等职业学校","湖南工程职业技术学院","202507","1","4000"]
["何腊辉",{"$f":"REPLACE('[1]四季红镇 (2)'!B174,8,8,\"********\")","v":"4323021********772"},"否","益阳市","沅江市","南大膳镇","南丰垸村",null,"高职生","高等职业学校","湖南大众传媒职业技术学院","202507","1","4000"]
["周连娥",{"$f":"REPLACE('[1]四季红镇 (2)'!B175,8,8,\"********\")","v":"4323021********324"},"否","益阳市","沅江市","茶盘洲镇","幸福村",null,"高职生","高等职业学校","湖南工艺美术职业学院","202507","1","4000"]
["曾建雄",{"$f":"REPLACE('[1]四季红镇 (2)'!B176,8,8,\"********\")","v":"4323021********330"},"否","益阳市","沅江市","草尾镇","新安村",null,"高职生","高等职业学校","娄底职业技术学院","202507","1","4000"]
["曾德军",{"$f":"REPLACE('[1]四季红镇 (2)'!B177,8,8,\"********\")","v":"4309811********114"},"否","益阳市","沅江市","草尾镇","熙福村",null,"高职生","高等职业学校","湘潭医卫职业技术学院","202507","1","4000"]